BEGIN:VCALENDAR
VERSION:2.0
PRODID:-//SANQC - ECPv4.9.14//NONSGML v1.0//EN
CALSCALE:GREGORIAN
METHOD:PUBLISH
X-WR-CALNAME:SANQC
X-ORIGINAL-URL:https://www.sanqc.ca
X-WR-CALDESC:Events for SANQC
BEGIN:VTIMEZONE
TZID:America/Edmonton
BEGIN:DAYLIGHT
TZOFFSETFROM:-0700
TZOFFSETTO:-0600
TZNAME:MDT
DTSTART:20200308T090000
END:DAYLIGHT
BEGIN:STANDARD
TZOFFSETFROM:-0600
TZOFFSETTO:-0700
TZNAME:MST
DTSTART:20201101T080000
END:STANDARD
END:VTIMEZONE
BEGIN:VEVENT
DTSTART;TZID=America/Edmonton:20200131T090000
DTEND;TZID=America/Edmonton:20200131T140000
DTSTAMP:20260424T061602
CREATED:20191218T194046Z
LAST-MODIFIED:20191218T195948Z
UID:4610-1580461200-1580479200@www.sanqc.ca
SUMMARY:Free Store
DESCRIPTION:It’s Free Store time again! Stop by and browse through the gently used and donated items. \nEach Free Store has a variety of different items such as school supplies\, clothing\, household goods\, kitchen wares\, children’s toys and more available for you to take for FREE! \n
URL:https://www.sanqc.ca/event/free-store-9/
LOCATION:SANQC Multi-Purpose Space (1-096)\, 10215 108 St NW\, Edmonton\, Alberta\, T5J 1L6\, Canada
CATEGORIES:Mental Health Events
ATTACH;FMTTYPE=image/jpeg:/wp-content/uploads/2019/12/IMG_20191028_092815-scaled.jpg
END:VEVENT
END:VCALENDAR