BEGIN:VCALENDAR
VERSION:2.0
PRODID:-//SANQC - ECPv4.9.14//NONSGML v1.0//EN
CALSCALE:GREGORIAN
METHOD:PUBLISH
X-WR-CALNAME:SANQC
X-ORIGINAL-URL:https://www.sanqc.ca
X-WR-CALDESC:Events for SANQC
BEGIN:VTIMEZONE
TZID:America/Edmonton
BEGIN:DAYLIGHT
TZOFFSETFROM:-0700
TZOFFSETTO:-0600
TZNAME:MDT
DTSTART:20190310T090000
END:DAYLIGHT
BEGIN:STANDARD
TZOFFSETFROM:-0600
TZOFFSETTO:-0700
TZNAME:MST
DTSTART:20191103T080000
END:STANDARD
END:VTIMEZONE
BEGIN:VEVENT
DTSTART;TZID=America/Edmonton:20190617T100000
DTEND;TZID=America/Edmonton:20190617T150000
DTSTAMP:20260424T061033
CREATED:20190521T221802Z
LAST-MODIFIED:20190521T221802Z
UID:3898-1560765600-1560783600@www.sanqc.ca
SUMMARY:Free Store & Cartoon Day Stress Free Zone
DESCRIPTION:What’s better than having your choice of free items to take home? Stopping for a bowl of cereal and a movie before you leave! \nOne half of the room will be a first come\, first serve free store along with a lot of great resources on free things to do around Edmonton this summer while the other half will feature movies\, cereal and comfy seating for you to relax in. \n
URL:https://www.sanqc.ca/event/free-store-cartoon-day-stress-free-zone/
LOCATION:SANQC Multi-Purpose Space (1-096)\, 10215 108 St NW\, Edmonton\, Alberta\, T5J 1L6\, Canada
CATEGORIES:Mental Health Events
ATTACH;FMTTYPE=image/jpeg:/wp-content/uploads/2019/05/StressFreeZone.jpeg
END:VEVENT
END:VCALENDAR