BEGIN:VCALENDAR
VERSION:2.0
PRODID:-//SANQC - ECPv4.9.14//NONSGML v1.0//EN
CALSCALE:GREGORIAN
METHOD:PUBLISH
X-WR-CALNAME:SANQC
X-ORIGINAL-URL:https://www.sanqc.ca
X-WR-CALDESC:Events for SANQC
BEGIN:VTIMEZONE
TZID:America/Edmonton
BEGIN:DAYLIGHT
TZOFFSETFROM:-0700
TZOFFSETTO:-0600
TZNAME:MDT
DTSTART:20180311T090000
END:DAYLIGHT
BEGIN:STANDARD
TZOFFSETFROM:-0600
TZOFFSETTO:-0700
TZNAME:MST
DTSTART:20181104T080000
END:STANDARD
END:VTIMEZONE
BEGIN:VEVENT
DTSTART;TZID=America/Edmonton:20180115T090000
DTEND;TZID=America/Edmonton:20180115T150000
DTSTAMP:20260423T224635
CREATED:20171130T210422Z
LAST-MODIFIED:20171130T210422Z
UID:1619-1516006800-1516028400@www.sanqc.ca
SUMMARY:Free Store: School Supplies
DESCRIPTION:It’s back to school time! Start off the new semester by checking out the SANQC Free Store for gently used donated items. This month we will have school supplies in addition to the other awesome items that have been donated. Everything is available for students to take for free. \n
URL:https://www.sanqc.ca/event/free-store-school-supplies/
LOCATION:SANQC Multi-Purpose Space (1-096)\, 10215 108 St NW\, Edmonton\, Alberta\, T5J 1L6\, Canada
CATEGORIES:Social Events
END:VEVENT
END:VCALENDAR