BEGIN:VCALENDAR
VERSION:2.0
PRODID:-//SANQC - ECPv4.9.14//NONSGML v1.0//EN
CALSCALE:GREGORIAN
METHOD:PUBLISH
X-WR-CALNAME:SANQC
X-ORIGINAL-URL:https://www.sanqc.ca
X-WR-CALDESC:Events for SANQC
BEGIN:VTIMEZONE
TZID:America/Edmonton
BEGIN:DAYLIGHT
TZOFFSETFROM:-0700
TZOFFSETTO:-0600
TZNAME:MDT
DTSTART:20180311T090000
END:DAYLIGHT
BEGIN:STANDARD
TZOFFSETFROM:-0600
TZOFFSETTO:-0700
TZNAME:MST
DTSTART:20181104T080000
END:STANDARD
END:VTIMEZONE
BEGIN:VEVENT
DTSTART;TZID=America/Edmonton:20180328T090000
DTEND;TZID=America/Edmonton:20180328T150000
DTSTAMP:20260424T003010
CREATED:20171130T213931Z
LAST-MODIFIED:20180228T201506Z
UID:1627-1522227600-1522249200@www.sanqc.ca
SUMMARY:Free Store: Spring Clothing
DESCRIPTION:It won’t be long before winter is gone for a while! Check out the SANQC Free Store for gently used donated items. This month we will have spring clothing in addition to the other awesome items that have been donated. Everything is available for students to take for free. \n
URL:https://www.sanqc.ca/event/free-store-spring-clothing/
LOCATION:SANQC Multi-Purpose Space (1-096)\, 10215 108 St NW\, Edmonton\, Alberta\, T5J 1L6\, Canada
CATEGORIES:Social Events
END:VEVENT
END:VCALENDAR