BEGIN:VCALENDAR
VERSION:2.0
PRODID:-//SANQC - ECPv4.9.14//NONSGML v1.0//EN
CALSCALE:GREGORIAN
METHOD:PUBLISH
X-WR-CALNAME:SANQC
X-ORIGINAL-URL:https://www.sanqc.ca
X-WR-CALDESC:Events for SANQC
BEGIN:VTIMEZONE
TZID:America/Edmonton
BEGIN:DAYLIGHT
TZOFFSETFROM:-0700
TZOFFSETTO:-0600
TZNAME:MDT
DTSTART:20190310T090000
END:DAYLIGHT
BEGIN:STANDARD
TZOFFSETFROM:-0600
TZOFFSETTO:-0700
TZNAME:MST
DTSTART:20191103T080000
END:STANDARD
END:VTIMEZONE
BEGIN:VEVENT
DTSTART;TZID=America/Edmonton:20190828T100000
DTEND;TZID=America/Edmonton:20190828T140000
DTSTAMP:20260424T045814
CREATED:20190710T153522Z
LAST-MODIFIED:20190710T153522Z
UID:3949-1566986400-1567000800@www.sanqc.ca
SUMMARY:Games Café
DESCRIPTION:Stop by our Games Café for a wide variety of gaming fun! We’ll have ping pong\, board games\, card games and jumbo sized games to name a few; odds are\, we’ll have something you’ll have fun playing. \nIf you don’t know how to play a game\, we’ll help you learn how. \nBring a friend or make some new ones and explore the fun choices we’ll have available. \n
URL:https://www.sanqc.ca/event/games-cafe-10/
LOCATION:SANQC Multi-Purpose Space (1-096)\, 10215 108 St NW\, Edmonton\, Alberta\, T5J 1L6\, Canada
CATEGORIES:Social Events
ATTACH;FMTTYPE=image/jpeg:/wp-content/uploads/2019/07/IMG_0298.jpg
END:VEVENT
END:VCALENDAR