BEGIN:VCALENDAR
VERSION:2.0
PRODID:-//SANQC - ECPv4.9.14//NONSGML v1.0//EN
CALSCALE:GREGORIAN
METHOD:PUBLISH
X-WR-CALNAME:SANQC
X-ORIGINAL-URL:https://www.sanqc.ca
X-WR-CALDESC:Events for SANQC
BEGIN:VTIMEZONE
TZID:America/Edmonton
BEGIN:DAYLIGHT
TZOFFSETFROM:-0700
TZOFFSETTO:-0600
TZNAME:MDT
DTSTART:20190310T090000
END:DAYLIGHT
BEGIN:STANDARD
TZOFFSETFROM:-0600
TZOFFSETTO:-0700
TZNAME:MST
DTSTART:20191103T080000
END:STANDARD
END:VTIMEZONE
BEGIN:VEVENT
DTSTART;TZID=America/Edmonton:20191002T110000
DTEND;TZID=America/Edmonton:20191002T140000
DTSTAMP:20260424T073653
CREATED:20190926T185811Z
LAST-MODIFIED:20191001T220323Z
UID:4235-1570014000-1570024800@www.sanqc.ca
SUMMARY:Games Café
DESCRIPTION:The theme for this Games Café is BOARD GAMES! Join SANQC for some exciting board games you can play with your friends and classmates. \nMeet new friends who love playing board games just like you! If board games aren’t your thing\, don’t worry\, we’ll still have puzzles\, card games and ping pong going as well. \nIt wouldn’t be a Games Café without coffee\, hot chocolate and tea so you’ll be able to enjoy a hot beverage and a snack while you play. \n
URL:https://www.sanqc.ca/event/games-cafe-11/
LOCATION:SANQC Multi-Purpose Space (1-096)\, 10215 108 St NW\, Edmonton\, Alberta\, T5J 1L6\, Canada
CATEGORIES:Social Events
ATTACH;FMTTYPE=image/jpeg:/wp-content/uploads/2019/09/WhatsApp-Image-2019-10-01-at-3.36.04-PM-2.jpeg
END:VEVENT
END:VCALENDAR