BEGIN:VCALENDAR
VERSION:2.0
PRODID:-//SANQC - ECPv4.9.14//NONSGML v1.0//EN
CALSCALE:GREGORIAN
METHOD:PUBLISH
X-WR-CALNAME:SANQC
X-ORIGINAL-URL:https://www.sanqc.ca
X-WR-CALDESC:Events for SANQC
BEGIN:VTIMEZONE
TZID:America/Edmonton
BEGIN:DAYLIGHT
TZOFFSETFROM:-0700
TZOFFSETTO:-0600
TZNAME:MDT
DTSTART:20190310T090000
END:DAYLIGHT
BEGIN:STANDARD
TZOFFSETFROM:-0600
TZOFFSETTO:-0700
TZNAME:MST
DTSTART:20191103T080000
END:STANDARD
END:VTIMEZONE
BEGIN:VEVENT
DTSTART;TZID=America/Edmonton:20191106T100000
DTEND;TZID=America/Edmonton:20191106T130000
DTSTAMP:20260424T073743
CREATED:20191030T154904Z
LAST-MODIFIED:20191030T155446Z
UID:4344-1573034400-1573045200@www.sanqc.ca
SUMMARY:Games Café
DESCRIPTION:Play card games with us at today’s Games Café while having some snacks and hot drinks. \nYou can also have fun with board games\, ping pong\, jumbo sized games and puzzles. Invite your friends and classmates to join you! \n
URL:https://www.sanqc.ca/event/games-cafe-15/
LOCATION:SANQC Multi-Purpose Space (1-096)\, 10215 108 St NW\, Edmonton\, Alberta\, T5J 1L6\, Canada
CATEGORIES:Social Events
ATTACH;FMTTYPE=image/jpeg:/wp-content/uploads/2019/10/WhatsApp-Image-2019-10-30-at-9.50.51-AM.jpeg
END:VEVENT
END:VCALENDAR