BEGIN:VCALENDAR
VERSION:2.0
PRODID:-//SANQC - ECPv4.9.14//NONSGML v1.0//EN
CALSCALE:GREGORIAN
METHOD:PUBLISH
X-WR-CALNAME:SANQC
X-ORIGINAL-URL:https://www.sanqc.ca
X-WR-CALDESC:Events for SANQC
BEGIN:VTIMEZONE
TZID:America/Edmonton
BEGIN:DAYLIGHT
TZOFFSETFROM:-0700
TZOFFSETTO:-0600
TZNAME:MDT
DTSTART:20190310T090000
END:DAYLIGHT
BEGIN:STANDARD
TZOFFSETFROM:-0600
TZOFFSETTO:-0700
TZNAME:MST
DTSTART:20191103T080000
END:STANDARD
END:VTIMEZONE
BEGIN:VEVENT
DTSTART;TZID=America/Edmonton:20191121T110000
DTEND;TZID=America/Edmonton:20191121T140000
DTSTAMP:20260424T045813
CREATED:20191030T170238Z
LAST-MODIFIED:20191030T170238Z
UID:4360-1574334000-1574344800@www.sanqc.ca
SUMMARY:Games Café
DESCRIPTION:Looking for a challenge? Head over to Games Café and practice your puzzle solving skills! Enjoy some board games\, card games\, ping pong and jumbo sized games as well while having hot drink and snacks with your friends. \n
URL:https://www.sanqc.ca/event/games-cafe-16/
LOCATION:SANQC Multi-Purpose Space (1-096)\, 10215 108 St NW\, Edmonton\, Alberta\, T5J 1L6\, Canada
CATEGORIES:Social Events
ATTACH;FMTTYPE=image/jpeg:/wp-content/uploads/2019/10/WhatsApp-Image-2019-10-30-at-9.58.44-AM.jpeg
END:VEVENT
END:VCALENDAR