BEGIN:VCALENDAR
VERSION:2.0
PRODID:-//SANQC - ECPv4.9.14//NONSGML v1.0//EN
CALSCALE:GREGORIAN
METHOD:PUBLISH
X-WR-CALNAME:SANQC
X-ORIGINAL-URL:https://www.sanqc.ca
X-WR-CALDESC:Events for SANQC
BEGIN:VTIMEZONE
TZID:America/Edmonton
BEGIN:DAYLIGHT
TZOFFSETFROM:-0700
TZOFFSETTO:-0600
TZNAME:MDT
DTSTART:20200308T090000
END:DAYLIGHT
BEGIN:STANDARD
TZOFFSETFROM:-0600
TZOFFSETTO:-0700
TZNAME:MST
DTSTART:20201101T080000
END:STANDARD
END:VTIMEZONE
BEGIN:VEVENT
DTSTART;TZID=America/Edmonton:20200205T100000
DTEND;TZID=America/Edmonton:20200205T130000
DTSTAMP:20260424T061707
CREATED:20200129T190221Z
LAST-MODIFIED:20200130T202321Z
UID:4715-1580896800-1580907600@www.sanqc.ca
SUMMARY:Games Café
DESCRIPTION:Games Café is back! Invite your classmates and friends and join us for board games\, card games\, puzzles and ping pong. We’ll have snacks and hot drinks for you to enjoy. See you there! \n
URL:https://www.sanqc.ca/event/games-cafe-17/
LOCATION:SANQC Multi-Purpose Space (1-096)\, 10215 108 St NW\, Edmonton\, Alberta\, T5J 1L6\, Canada
CATEGORIES:Social Events
ATTACH;FMTTYPE=image/jpeg:/wp-content/uploads/2020/01/GC1.jpg
END:VEVENT
END:VCALENDAR