BEGIN:VCALENDAR
VERSION:2.0
PRODID:-//SANQC - ECPv4.9.14//NONSGML v1.0//EN
CALSCALE:GREGORIAN
METHOD:PUBLISH
X-WR-CALNAME:SANQC
X-ORIGINAL-URL:https://www.sanqc.ca
X-WR-CALDESC:Events for SANQC
BEGIN:VTIMEZONE
TZID:America/Edmonton
BEGIN:DAYLIGHT
TZOFFSETFROM:-0700
TZOFFSETTO:-0600
TZNAME:MDT
DTSTART:20200308T090000
END:DAYLIGHT
BEGIN:STANDARD
TZOFFSETFROM:-0600
TZOFFSETTO:-0700
TZNAME:MST
DTSTART:20201101T080000
END:STANDARD
END:VTIMEZONE
BEGIN:VEVENT
DTSTART;TZID=America/Edmonton:20200305T110000
DTEND;TZID=America/Edmonton:20200305T140000
DTSTAMP:20260424T061728
CREATED:20200221T215147Z
LAST-MODIFIED:20200221T215147Z
UID:4848-1583406000-1583416800@www.sanqc.ca
SUMMARY:Games Café
DESCRIPTION:SANQC has some puzzles for you to solve! Have fun at our Games Café and piece together those puzzles or play some card games\, ping pong\, board games and more. We’ll have snacks and hot drinks for you too! \n
URL:https://www.sanqc.ca/event/games-cafe-19/
LOCATION:SANQC Multi-Purpose Space (1-096)\, 10215 108 St NW\, Edmonton\, Alberta\, T5J 1L6\, Canada
CATEGORIES:Social Events
ATTACH;FMTTYPE=image/jpeg:/wp-content/uploads/2020/02/Games-Cafe.jpg
END:VEVENT
END:VCALENDAR