BEGIN:VCALENDAR
VERSION:2.0
PRODID:-//SANQC - ECPv4.9.14//NONSGML v1.0//EN
CALSCALE:GREGORIAN
METHOD:PUBLISH
X-WR-CALNAME:SANQC
X-ORIGINAL-URL:https://www.sanqc.ca
X-WR-CALDESC:Events for SANQC
BEGIN:VTIMEZONE
TZID:America/Edmonton
BEGIN:DAYLIGHT
TZOFFSETFROM:-0700
TZOFFSETTO:-0600
TZNAME:MDT
DTSTART:20190310T090000
END:DAYLIGHT
BEGIN:STANDARD
TZOFFSETFROM:-0600
TZOFFSETTO:-0700
TZNAME:MST
DTSTART:20191103T080000
END:STANDARD
END:VTIMEZONE
BEGIN:VEVENT
DTSTART;TZID=America/Edmonton:20190717T100000
DTEND;TZID=America/Edmonton:20190717T140000
DTSTAMP:20260424T073541
CREATED:20190710T152807Z
LAST-MODIFIED:20190710T152807Z
UID:3938-1563357600-1563372000@www.sanqc.ca
SUMMARY:Games Café
DESCRIPTION:Join us for board games\, card games\, jumbo floor games and always a favorite\, ping pong! \nIf you don’t know how to play a game\, we’ll help you learn how. \nBring a friend or make some new ones and explore the fun choices we’ll have available. \n
URL:https://www.sanqc.ca/event/games-cafe-7/
LOCATION:SANQC Multi-Purpose Space (1-096)\, 10215 108 St NW\, Edmonton\, Alberta\, T5J 1L6\, Canada
CATEGORIES:Social Events
ATTACH;FMTTYPE=image/jpeg:/wp-content/uploads/2019/07/IMG_0041.jpg
END:VEVENT
END:VCALENDAR