BEGIN:VCALENDAR
VERSION:2.0
PRODID:-//SANQC - ECPv4.9.14//NONSGML v1.0//EN
CALSCALE:GREGORIAN
METHOD:PUBLISH
X-WR-CALNAME:SANQC
X-ORIGINAL-URL:https://www.sanqc.ca
X-WR-CALDESC:Events for SANQC
BEGIN:VTIMEZONE
TZID:America/Edmonton
BEGIN:DAYLIGHT
TZOFFSETFROM:-0700
TZOFFSETTO:-0600
TZNAME:MDT
DTSTART:20180311T090000
END:DAYLIGHT
BEGIN:STANDARD
TZOFFSETFROM:-0600
TZOFFSETTO:-0700
TZNAME:MST
DTSTART:20181104T080000
END:STANDARD
END:VTIMEZONE
BEGIN:VEVENT
DTSTART;TZID=America/Edmonton:20181018T110000
DTEND;TZID=America/Edmonton:20181018T140000
DTSTAMP:20260424T054101
CREATED:20180927T170249Z
LAST-MODIFIED:20180927T200945Z
UID:2873-1539860400-1539871200@www.sanqc.ca
SUMMARY:Games Café
DESCRIPTION:How do you like your games? We’ve got board games\, card games\, jumbo sized games; odds are\, we’ll have something you’ll have fun playing. \nIf you don’t know how to play a game\, we’ll help you learn how. \nBring a friend or make some new ones and explore the fun choices we’ll have available. \n
URL:https://www.sanqc.ca/event/games-cafe/
LOCATION:SANQC Multi-Purpose Space (1-096)\, 10215 108 St NW\, Edmonton\, Alberta\, T5J 1L6\, Canada
CATEGORIES:Social Events
ATTACH;FMTTYPE=image/jpeg:/wp-content/uploads/2018/09/WhatsApp-Image-2018-09-27-at-1.43.51-PM-e1538078973707.jpeg
END:VEVENT
END:VCALENDAR