BEGIN:VCALENDAR
VERSION:2.0
PRODID:-//SANQC - ECPv4.9.14//NONSGML v1.0//EN
CALSCALE:GREGORIAN
METHOD:PUBLISH
X-WR-CALNAME:SANQC
X-ORIGINAL-URL:https://www.sanqc.ca
X-WR-CALDESC:Events for SANQC
BEGIN:VTIMEZONE
TZID:America/Edmonton
BEGIN:DAYLIGHT
TZOFFSETFROM:-0700
TZOFFSETTO:-0600
TZNAME:MDT
DTSTART:20210314T090000
END:DAYLIGHT
BEGIN:STANDARD
TZOFFSETFROM:-0600
TZOFFSETTO:-0700
TZNAME:MST
DTSTART:20211107T080000
END:STANDARD
END:VTIMEZONE
BEGIN:VEVENT
DTSTART;TZID=America/Edmonton:20211118T140000
DTEND;TZID=America/Edmonton:20211118T160000
DTSTAMP:20260423T214231
CREATED:20211116T170950Z
LAST-MODIFIED:20211116T172350Z
UID:6787-1637244000-1637251200@www.sanqc.ca
SUMMARY:Games Day • Pictionary & Codenames
DESCRIPTION:Meet new friends or bring your NorQuest friends with you for a fun afternoon of Games Day! We’ll be playing Pictionary and Codenames and there’s no prior game experience required. \nHere’s a sneak peek of what to look forward to: \nPictionary: Each player will have a chance to draw their chosen word and other players have to guess it to earn points. The person with the most points after the game\, wins! \nCodenames: You’ll play as a spymaster or an operative while your team tries to solve your clues before the other team solves theirs. It’s quick and easy to learn and great to challenge and connect the word to the clues that you will give or receive. See how clever you can be to get the win! \nTwo Fall term NorQuest students who join will win a $25 gift card! \nJoin the fun on Blackboard here. \n
URL:https://www.sanqc.ca/event/games-day-pictionary-codenames/
LOCATION:Blackboard
CATEGORIES:Social Events
ATTACH;FMTTYPE=image/png:/wp-content/uploads/2021/11/Games-Day-Nov-18-1.png
END:VEVENT
END:VCALENDAR