BEGIN:VCALENDAR
VERSION:2.0
PRODID:-//SANQC - ECPv4.9.14//NONSGML v1.0//EN
CALSCALE:GREGORIAN
METHOD:PUBLISH
X-WR-CALNAME:SANQC
X-ORIGINAL-URL:https://www.sanqc.ca
X-WR-CALDESC:Events for SANQC
BEGIN:VTIMEZONE
TZID:America/Edmonton
BEGIN:DAYLIGHT
TZOFFSETFROM:-0700
TZOFFSETTO:-0600
TZNAME:MDT
DTSTART:20210314T090000
END:DAYLIGHT
BEGIN:STANDARD
TZOFFSETFROM:-0600
TZOFFSETTO:-0700
TZNAME:MST
DTSTART:20211107T080000
END:STANDARD
END:VTIMEZONE
BEGIN:VEVENT
DTSTART;TZID=America/Edmonton:20210513T170000
DTEND;TZID=America/Edmonton:20210513T190000
DTSTAMP:20260424T125234
CREATED:20210420T225458Z
LAST-MODIFIED:20210430T201138Z
UID:6229-1620925200-1620932400@www.sanqc.ca
SUMMARY:Games Day • Spy Fall
DESCRIPTION:We are one big team of FBI Agents and we have a problem\, one person in our department is a Spy! \nAt the beginning each round\, all the Agents will be shown what location they’re at while the randomly chosen Spy will only see that they’re not an Agent. Players will take turns asking each other questions about the location and your job as an Agent is to try and figure out who the Spy is while the Spy tries to figure out what location all the Agents are at based on the answers being given. \nWe have to be extra careful to make sure that the Spy does not guess where we are before we are able to catch them! If you do not know how to play don’t worry\, we’ll teach you how and we will play a few trial rounds to make sure we all understand! Don’t forget to invite your NorQuest friends to join in the fun! \nOne lucky current spring term NorQuest students will win the Spyfall 2 board game to enjoy playing with friends and family. \nJoin the fun here on Blackboard. \n  \n
URL:https://www.sanqc.ca/event/games-day-spy-fall/
CATEGORIES:Social Events
ATTACH;FMTTYPE=image/jpeg:/wp-content/uploads/2021/04/May13Games.jpeg
END:VEVENT
END:VCALENDAR