BEGIN:VCALENDAR
VERSION:2.0
PRODID:-//SANQC - ECPv4.9.14//NONSGML v1.0//EN
CALSCALE:GREGORIAN
METHOD:PUBLISH
X-WR-CALNAME:SANQC
X-ORIGINAL-URL:https://www.sanqc.ca
X-WR-CALDESC:Events for SANQC
BEGIN:VTIMEZONE
TZID:America/Edmonton
BEGIN:DAYLIGHT
TZOFFSETFROM:-0700
TZOFFSETTO:-0600
TZNAME:MDT
DTSTART:20210314T090000
END:DAYLIGHT
BEGIN:STANDARD
TZOFFSETFROM:-0600
TZOFFSETTO:-0700
TZNAME:MST
DTSTART:20211107T080000
END:STANDARD
END:VTIMEZONE
BEGIN:VEVENT
DTSTART;TZID=America/Edmonton:20210415T170000
DTEND;TZID=America/Edmonton:20210415T190000
DTSTAMP:20260423T214210
CREATED:20210319T221655Z
LAST-MODIFIED:20210323T212535Z
UID:6115-1618506000-1618513200@www.sanqc.ca
SUMMARY:Games Day
DESCRIPTION:Don’t miss out on some Emoji Tic-Tac-Toe and Wheel of Fortune action with your Students’ Association! If you’ve never played these games\, don’t worry\, we’ll show you how to play! \nEmoji Tic-Tac-Toe: The game is played on a 3×3 grid with players split into two teams. Guess what word or phrase the emoji’s mean so you can place your X or O on the board. The first team to get a straight line wins! \nWheel of Fortune: After splitting into two teams\, each team will rotate through their players to try and solve the puzzle. Whether you spin for a consonant\, buy a vowel or guess the answer\, each turn will last until you solve the puzzle\, guess the wrong letter\, lose a turn or land on bankrupt. The closer you get to solving the puzzle\, the tougher it is to decide if you should risk another spin! \nCurrent winter term NorQuest students that participate will get a chance to win one of the two Wheel of Fortune games to enjoy with your friends and family. \nJoin us on Blackboard here. \n
URL:https://www.sanqc.ca/event/gamesdayapr15/
LOCATION:Blackboard
CATEGORIES:Social Events
ATTACH;FMTTYPE=image/png:/wp-content/uploads/2021/03/GamesApr15-e1616534588460.png
END:VEVENT
END:VCALENDAR