BEGIN:VCALENDAR
VERSION:2.0
PRODID:-//SANQC - ECPv4.9.14//NONSGML v1.0//EN
CALSCALE:GREGORIAN
METHOD:PUBLISH
X-WR-CALNAME:SANQC
X-ORIGINAL-URL:https://www.sanqc.ca
X-WR-CALDESC:Events for SANQC
BEGIN:VTIMEZONE
TZID:America/Edmonton
BEGIN:DAYLIGHT
TZOFFSETFROM:-0700
TZOFFSETTO:-0600
TZNAME:MDT
DTSTART:20200308T090000
END:DAYLIGHT
BEGIN:STANDARD
TZOFFSETFROM:-0600
TZOFFSETTO:-0700
TZNAME:MST
DTSTART:20201101T080000
END:STANDARD
END:VTIMEZONE
BEGIN:VEVENT
DTSTART;TZID=America/Edmonton:20201126T170000
DTEND;TZID=America/Edmonton:20201126T190000
DTSTAMP:20260424T043722
CREATED:20201109T021226Z
LAST-MODIFIED:20201109T162027Z
UID:5460-1606410000-1606417200@www.sanqc.ca
SUMMARY:Games Day •  Codenames
DESCRIPTION:Join SANQC on Blackboard for a fun evening playing Codenames! You’ll be part of a team as either a spymaster or an operative while your team tries to solve your clues before the other team solves theirs. \nNo experience is needed as we’ll help you learn how to play and match you up with a team. \nAll current Fall term NorQuest students who attend will have a chance to win a $50 gift card! \n
URL:https://www.sanqc.ca/event/gamesdaycodenames/
LOCATION:Blackboard
CATEGORIES:Social Events
ATTACH;FMTTYPE=image/jpeg:/wp-content/uploads/2020/11/Codenames-e1604887864459.jpeg
END:VEVENT
END:VCALENDAR