BEGIN:VCALENDAR
VERSION:2.0
PRODID:-//SANQC - ECPv4.9.14//NONSGML v1.0//EN
CALSCALE:GREGORIAN
METHOD:PUBLISH
X-WR-CALNAME:SANQC
X-ORIGINAL-URL:https://www.sanqc.ca
X-WR-CALDESC:Events for SANQC
BEGIN:VTIMEZONE
TZID:America/Edmonton
BEGIN:DAYLIGHT
TZOFFSETFROM:-0700
TZOFFSETTO:-0600
TZNAME:MDT
DTSTART:20210314T090000
END:DAYLIGHT
BEGIN:STANDARD
TZOFFSETFROM:-0600
TZOFFSETTO:-0700
TZNAME:MST
DTSTART:20211107T080000
END:STANDARD
END:VTIMEZONE
BEGIN:VEVENT
DTSTART;TZID=America/Edmonton:20210610T170000
DTEND;TZID=America/Edmonton:20210610T190000
DTSTAMP:20260423T170741
CREATED:20210503T202934Z
LAST-MODIFIED:20210504T181606Z
UID:6291-1623344400-1623351600@www.sanqc.ca
SUMMARY:Games Day • Pictionary & Taboo
DESCRIPTION:It’s always fun to play games\, especially when you play them with friends. Invite your NorQuest friends to join us for a fun evening playing “Pictionary” and “Taboo”. \nIf you haven’t played before\, here’s what you need to know: \nPictionary: Players will be divided into 2 teams\, with an artist from each team drawing as many words as they can from the list they are given within 60 seconds. The team with the most correct answers wins the game and bragging rights! \nTaboo: We will split everyone into two teams and you’ll try to guess the right answer based off clues from your team. The catch is that there are certain words you can’t use for clues and if your team uses any\, the other team will buzz you\, then it’s their turn! \nTwo current spring term NorQuest students who play will have a chance to win their choice of Pictionary Air or Taboo. \nJoin the fun on blackboard here. \n
URL:https://www.sanqc.ca/event/gamesdayjun10/
LOCATION:Blackboard
CATEGORIES:Social Events
ATTACH;FMTTYPE=image/jpeg:/wp-content/uploads/2021/05/Jun10Games.jpeg
END:VEVENT
END:VCALENDAR