BEGIN:VCALENDAR
VERSION:2.0
PRODID:-//SANQC - ECPv4.9.14//NONSGML v1.0//EN
CALSCALE:GREGORIAN
METHOD:PUBLISH
X-WR-CALNAME:SANQC
X-ORIGINAL-URL:https://www.sanqc.ca
X-WR-CALDESC:Events for SANQC
BEGIN:VTIMEZONE
TZID:America/Edmonton
BEGIN:DAYLIGHT
TZOFFSETFROM:-0700
TZOFFSETTO:-0600
TZNAME:MDT
DTSTART:20210314T090000
END:DAYLIGHT
BEGIN:STANDARD
TZOFFSETFROM:-0600
TZOFFSETTO:-0700
TZNAME:MST
DTSTART:20211107T080000
END:STANDARD
END:VTIMEZONE
BEGIN:VEVENT
DTSTART;TZID=America/Edmonton:20210624T130000
DTEND;TZID=America/Edmonton:20210624T150000
DTSTAMP:20260423T212412
CREATED:20210503T212540Z
LAST-MODIFIED:20210504T181704Z
UID:6300-1624539600-1624546800@www.sanqc.ca
SUMMARY:Games Day • Family Feud
DESCRIPTION:Buckle up and get ready for a great afternoon playing Family Feud. We have turned day to day things into fun rounds for you to enjoy! Whether that’s naming something people might order with their hamburger or naming a liquid in your kitchen that you hope no one accidentally drinks. There is no special knowledge you’ll need to participate. \nAt the start of each round\, we’ll split everybody into 2 teams. The team that wins the faceoff decides if their team will play or pass before one of the teams tries to get all the answers correct before they get 3 strikes. If the team playing hits 3 strikes\, then the opposing team gets a chance to steal the round! If you’ve never watched the show or played the game before\, we’ll show you how to play\, it’s quick and easy to learn! \nWe will be giving away two Family “Feud Trivia Box” card games to 2 lucky spring term NorQuest Students. \nInvite your NorQuest friends to play and join the fun on Blackboard here. \n
URL:https://www.sanqc.ca/event/gamesdayjun24/
LOCATION:Blackboard
CATEGORIES:Social Events
ATTACH;FMTTYPE=image/jpeg:/wp-content/uploads/2021/05/Jun24Games.jpeg
END:VEVENT
END:VCALENDAR