BEGIN:VCALENDAR
VERSION:2.0
PRODID:-//SANQC - ECPv4.9.14//NONSGML v1.0//EN
CALSCALE:GREGORIAN
METHOD:PUBLISH
X-WR-CALNAME:SANQC
X-ORIGINAL-URL:https://www.sanqc.ca
X-WR-CALDESC:Events for SANQC
BEGIN:VTIMEZONE
TZID:America/Edmonton
BEGIN:DAYLIGHT
TZOFFSETFROM:-0700
TZOFFSETTO:-0600
TZNAME:MDT
DTSTART:20210314T090000
END:DAYLIGHT
BEGIN:STANDARD
TZOFFSETFROM:-0600
TZOFFSETTO:-0700
TZNAME:MST
DTSTART:20211107T080000
END:STANDARD
END:VTIMEZONE
BEGIN:VEVENT
DTSTART;TZID=America/Edmonton:20210304T133000
DTEND;TZID=America/Edmonton:20210304T153000
DTSTAMP:20260424T070224
CREATED:20210218T222612Z
LAST-MODIFIED:20210219T224701Z
UID:6050-1614864600-1614871800@www.sanqc.ca
SUMMARY:Games Day • Taboo & Charades
DESCRIPTION:Join SANQC for a fun afternoon playing Taboo and Charades on Thu\, March 4 from 1:30 – 3:30 pm. \nFor Taboo we will split everyone into two teams and you’ll try to guess the right answer based off clues from your team. The catch is that there are certain words you can’t use for clues and if your team uses any\, the other team will buzz you\, then it’s their turn! \nDuring Charades\, you’ll either act out movies\, words\, animals or other types of clues for others to guess or you’ll do the guessing while others do their best to act out the answer. Earn points for your team and claim victory! \nIf you don’t know how to play\, both games are easy and quick to learn and we’ll show you how to play. \nDon’t miss out on an afternoon full of excitement on Blackboard here. \nAll participating winter term NorQuest students will have a chance to win one of two taboo games that you can enjoy with friends and family! \n
URL:https://www.sanqc.ca/event/gamesdaymar4/
LOCATION:Blackboard
CATEGORIES:Social Events
ATTACH;FMTTYPE=image/jpeg:/wp-content/uploads/2021/02/Mar4GamesDayWeb-e1613774726837.jpeg
END:VEVENT
END:VCALENDAR