BEGIN:VCALENDAR
VERSION:2.0
PRODID:-//SANQC - ECPv4.9.14//NONSGML v1.0//EN
CALSCALE:GREGORIAN
METHOD:PUBLISH
X-WR-CALNAME:SANQC
X-ORIGINAL-URL:https://www.sanqc.ca
X-WR-CALDESC:Events for SANQC
BEGIN:VTIMEZONE
TZID:America/Edmonton
BEGIN:DAYLIGHT
TZOFFSETFROM:-0700
TZOFFSETTO:-0600
TZNAME:MDT
DTSTART:20210314T090000
END:DAYLIGHT
BEGIN:STANDARD
TZOFFSETFROM:-0600
TZOFFSETTO:-0700
TZNAME:MST
DTSTART:20211107T080000
END:STANDARD
END:VTIMEZONE
BEGIN:VEVENT
DTSTART;TZID=America/Edmonton:20210527T130000
DTEND;TZID=America/Edmonton:20210527T150000
DTSTAMP:20260423T170628
CREATED:20210420T230136Z
LAST-MODIFIED:20210430T201044Z
UID:6233-1622120400-1622127600@www.sanqc.ca
SUMMARY:Games Day • Codenames & Emoji Tic-Tac-Toe
DESCRIPTION:It’s Games Day time again and we love playing them with you! Bring your NorQuest friends and join us to play Codenames and a unique version of Tic-Tac-Toe. \nCodenames: You’ll play as a spymaster or an operative while your team tries to solve your clues before the other team solves theirs. It’s quick and easy to learn and great to challenge and connect the word to the clues that you will give or receive. See how clever you can be to get the win! \nEmoji Tic-Tac-Toe: This game is played on a 3×3 grid with players split into two teams. Guess what word or phrase the emoji’s mean so you can place your X or O on the board. The first team to get a straight line wins! \nIf you’re still unsure on how to play\, we’ll teach you! \nTwo lucky current spring term NorQuest students will win their choice of Codenames or Wooden Tic-tac-toe to enjoy playing with family and friends. \nJoin us on Blackboard here. \n  \n
URL:https://www.sanqc.ca/event/gamesdaymay17/
LOCATION:Blackboard
CATEGORIES:Social Events
ATTACH;FMTTYPE=image/jpeg:/wp-content/uploads/2021/04/May20Games.jpeg
END:VEVENT
END:VCALENDAR