BEGIN:VCALENDAR
VERSION:2.0
PRODID:-//SANQC - ECPv4.9.14//NONSGML v1.0//EN
CALSCALE:GREGORIAN
METHOD:PUBLISH
X-WR-CALNAME:SANQC
X-ORIGINAL-URL:https://www.sanqc.ca
X-WR-CALDESC:Events for SANQC
BEGIN:VTIMEZONE
TZID:America/Edmonton
BEGIN:DAYLIGHT
TZOFFSETFROM:-0700
TZOFFSETTO:-0600
TZNAME:MDT
DTSTART:20210314T090000
END:DAYLIGHT
BEGIN:STANDARD
TZOFFSETFROM:-0600
TZOFFSETTO:-0700
TZNAME:MST
DTSTART:20211107T080000
END:STANDARD
END:VTIMEZONE
BEGIN:VEVENT
DTSTART;TZID=America/Edmonton:20211207T110000
DTEND;TZID=America/Edmonton:20211207T150000
DTSTAMP:20260424T072220
CREATED:20211116T173624Z
LAST-MODIFIED:20211129T180541Z
UID:6800-1638874800-1638889200@www.sanqc.ca
SUMMARY:Grab and Go Stress Free Zone
DESCRIPTION:Starting at 11 am on Wed\, Nov 24\, visit us in Imagine Hall and grab one of three kits*. Choose from a painting set\, a 3D jigsaw puzzle\, or a coloring kit at our Grab & Go Stress Free Zone! Take one with you to de-stress wherever you’d like. \nPainting Set \nThe painting set is of a cute llama using acrylic paint included in your kit! You can follow the recommended colors or make it your own. \n3D Jigsaw Puzzle \nBuild a cool 3D animal jigsaw puzzle that you can display in your home with different animals to choose from! \nColoring Kit \nCarry this adorable animal coloring book with you and de-stress wherever you are. Among the animals you can color are owls\, birds\, butterflies\, hedgehogs\, foxes\, turtles\, seahorses\, and more! The kit comes with 12 color pencils. \nShare Your Creations! \nWe’d love to see what you have created and share them with other NorQuest students. Send us a picture of your work or tag us on Facebook or Instagram (@norquestsa) between Tue\, Dec 7 to Tue\, Dec 14 and be entered to win a $50 gift card! \n*While supplies last \n
URL:https://www.sanqc.ca/event/grab-and-go-stress-free-zone-2/
LOCATION:Imagine Hall\, 10215 108 St NW\, Edmonton\, AB\, T5J 1L6\, Canada
CATEGORIES:Mental Health Events
ATTACH;FMTTYPE=image/png:/wp-content/uploads/2021/11/Dec7SFZ.png
END:VEVENT
END:VCALENDAR