BEGIN:VCALENDAR
VERSION:2.0
PRODID:-//SANQC - ECPv4.9.14//NONSGML v1.0//EN
CALSCALE:GREGORIAN
METHOD:PUBLISH
X-WR-CALNAME:SANQC
X-ORIGINAL-URL:https://www.sanqc.ca
X-WR-CALDESC:Events for SANQC
BEGIN:VTIMEZONE
TZID:America/Edmonton
BEGIN:DAYLIGHT
TZOFFSETFROM:-0700
TZOFFSETTO:-0600
TZNAME:MDT
DTSTART:20210314T090000
END:DAYLIGHT
BEGIN:STANDARD
TZOFFSETFROM:-0600
TZOFFSETTO:-0700
TZNAME:MST
DTSTART:20211107T080000
END:STANDARD
END:VTIMEZONE
BEGIN:VEVENT
DTSTART;TZID=America/Edmonton:20211124T110000
DTEND;TZID=America/Edmonton:20211124T150000
DTSTAMP:20260424T001628
CREATED:20211116T172121Z
LAST-MODIFIED:20211123T173023Z
UID:6793-1637751600-1637766000@www.sanqc.ca
SUMMARY:Grab and Go Stress Free Zone
DESCRIPTION:Need a break from academics? We have some de-stressing activities you can get at our Grab and Go Stress Free Zone booth! \nStarting at 11 am on Wed\, Nov 24\, visit us in Imagine Hall and grab one of three kits* including slime\, painting and 3D puzzles to enjoy. We’ll include some activity suggestions you can do with the sets you take. \nWhen you try them out\, send us a picture of your creation for us to share online or post it on your Facebook or Instagram and tag us (@norquestsa)! Fall term NorQuest students who do this between Wed\, Nov 24 to Wed\, Dec 1 will have a chance to win a $50 gift card! \n*While supplies last \n  \nSlime Kit \nDid you know that playing with slime promotes mindfulness\, is calming\, and can help you focus? Enjoy working with the slime kit you got and get creative with your slimy inventions. \nYou can combine the slime you got with the other cute items included in the kit to make cool creations like these. \n  \n  \n  \n  \n  \n3D Puzzle \nBuilding puzzles has numerous benefits for your mental health including increased IQ\, improved mood\, and lower stress levels. You can follow the instructions included in the 3D puzzle kit you have. Here are some examples of what your puzzle may look like when built. \n  \n  \n  \n  \n  \n  \nPainting Kit \nPainting provides stress relief\, encourages creativity\, and hones your memory.  Here are video links to easy acrylic paintings for beginners you can do at home: \n  \nEasy Moonlight Landscape Acrylic Painting by AhmadArt \n \n  \nRudolph for kids!! by Painting with a Purpose \n \n  \nEasy Sunset Painting/Easy Acrylic Paining for Beginners by PriyA Art Studio \n \n
URL:https://www.sanqc.ca/event/grab-and-go-stress-free-zone/
LOCATION:Imagine Hall\, 10215 108 St NW\, Edmonton\, AB\, T5J 1L6\, Canada
CATEGORIES:Mental Health Events
ATTACH;FMTTYPE=image/png:/wp-content/uploads/2021/11/Grab-and-Go-Nov-24.png
END:VEVENT
END:VCALENDAR