BEGIN:VCALENDAR
VERSION:2.0
PRODID:-//SANQC - ECPv4.9.14//NONSGML v1.0//EN
CALSCALE:GREGORIAN
METHOD:PUBLISH
X-WR-CALNAME:SANQC
X-ORIGINAL-URL:https://www.sanqc.ca
X-WR-CALDESC:Events for SANQC
BEGIN:VTIMEZONE
TZID:America/Edmonton
BEGIN:DAYLIGHT
TZOFFSETFROM:-0700
TZOFFSETTO:-0600
TZNAME:MDT
DTSTART:20200308T090000
END:DAYLIGHT
BEGIN:STANDARD
TZOFFSETFROM:-0600
TZOFFSETTO:-0700
TZNAME:MST
DTSTART:20201101T080000
END:STANDARD
END:VTIMEZONE
BEGIN:VEVENT
DTSTART;TZID=America/Edmonton:20201030T123000
DTEND;TZID=America/Edmonton:20201030T140000
DTSTAMP:20260424T003010
CREATED:20201007T022758Z
LAST-MODIFIED:20201007T221849Z
UID:5391-1604061000-1604066400@www.sanqc.ca
SUMMARY:Halloween Storytelling & Decoration Crafting
DESCRIPTION:We’ve got fun x 2 for you at this event! We’ll have two breakout rooms on the go for you to check out. The first will feature  Halloween story building and Halloween crosswords while room two will be filled with Halloween decoration crafting fun. Here you’ll turn odds and ends from around your house into fun Halloween decorations that are creepy\, fun or a bit of both! \nWe’ll also have a contest for current NorQuest students to guess how many candies are in the jar for a chance to win a $50 gift card! \nSuggested supplies you’ll need on hand for the crafting room: \n\nEmpty milk container\, mason jar or empty pasta sauce jar\nGlue\nMagazine paper\nMarkers\nAnything crafty you have around the house\n\nJoin the fun on blackboard here \n
URL:https://www.sanqc.ca/event/halloweenstoryandcraft/
LOCATION:Blackboard
ATTACH;FMTTYPE=image/png:/wp-content/uploads/2020/10/Storytelling-e1602795661109.png
END:VEVENT
END:VCALENDAR