BEGIN:VCALENDAR
VERSION:2.0
PRODID:-//SANQC - ECPv4.9.14//NONSGML v1.0//EN
CALSCALE:GREGORIAN
METHOD:PUBLISH
X-WR-CALNAME:SANQC
X-ORIGINAL-URL:https://www.sanqc.ca
X-WR-CALDESC:Events for SANQC
BEGIN:VTIMEZONE
TZID:America/Edmonton
BEGIN:DAYLIGHT
TZOFFSETFROM:-0700
TZOFFSETTO:-0600
TZNAME:MDT
DTSTART:20190310T090000
END:DAYLIGHT
BEGIN:STANDARD
TZOFFSETFROM:-0600
TZOFFSETTO:-0700
TZNAME:MST
DTSTART:20191103T080000
END:STANDARD
END:VTIMEZONE
BEGIN:VEVENT
DTSTART;TZID=America/Edmonton:20191024T110000
DTEND;TZID=America/Edmonton:20191024T140000
DTSTAMP:20260424T061545
CREATED:20190926T202355Z
LAST-MODIFIED:20190926T202355Z
UID:4258-1571914800-1571925600@www.sanqc.ca
SUMMARY:Headphone Disco
DESCRIPTION:Join SANQC for a silent dance party like you’ve probably never seen before. We bring to you a Headphone Disco! \nWe’ll trade you a pair of headphones for your student ID (don’t worry\, you get your ID back when you return the headphones)\, then you’ll join the dance floor to enjoy a variety of music being played by a pair of DJ’s competing for your attention. \nEach DJ will be playing different music and your headphones will light up showing which one you’re listening to. They’ll change things up to try and keep the most people dancing to their beat. \n
URL:https://www.sanqc.ca/event/headphone-disco/
LOCATION:Atrium (1-001)\, 10215 108 St NW\, Edmonton\, Alberta\, T5J 1L6\, Canada
CATEGORIES:Social Events
ATTACH;FMTTYPE=image/jpeg:/wp-content/uploads/2018/09/HD-Logo-Pic-2017.jpg
END:VEVENT
END:VCALENDAR