BEGIN:VCALENDAR
VERSION:2.0
PRODID:-//SANQC - ECPv4.9.14//NONSGML v1.0//EN
CALSCALE:GREGORIAN
METHOD:PUBLISH
X-WR-CALNAME:SANQC
X-ORIGINAL-URL:https://www.sanqc.ca
X-WR-CALDESC:Events for SANQC
BEGIN:VTIMEZONE
TZID:America/Edmonton
BEGIN:DAYLIGHT
TZOFFSETFROM:-0700
TZOFFSETTO:-0600
TZNAME:MDT
DTSTART:20210314T090000
END:DAYLIGHT
BEGIN:STANDARD
TZOFFSETFROM:-0600
TZOFFSETTO:-0700
TZNAME:MST
DTSTART:20211107T080000
END:STANDARD
END:VTIMEZONE
BEGIN:VEVENT
DTSTART;TZID=America/Edmonton:20210505T170000
DTEND;TZID=America/Edmonton:20210505T190000
DTSTAMP:20260424T143225
CREATED:20210420T223831Z
LAST-MODIFIED:20210430T201147Z
UID:6227-1620234000-1620241200@www.sanqc.ca
SUMMARY:Jackbox Party
DESCRIPTION:It’s Jackbox Party time! Join us for “Murder Party”\, “Quiplash 2”\, and “Guesspionage”. Bring your NorQuest friends to play some Jackbox party pack 3! \nMurder Party: Correctly answer trivia questions to stay alive while you try to stay ahead of the game! If (likely when!) you become a ghost\, the game isn’t over\, so long as somebody is still alive\, there’s a chance for you to return to the living… \nQuiplash 2: Give your funniest answers to a series of questions and earn the most votes in a head to head battle with your opponents. \nGuesspionage: Guess what percentage of people do what the question asks. The closer you are\, the more points you get! \nAll current spring term NorQuest students that participate will have a chance to win one of four $10 gift cards. \nDon’t forget you’ll need 2 screens to play. That could be a combination of a computer and phone\, two mobile devices (phones or tablets) or two browser windows on your computer. \nJoin the fun on Blackboard here. \n  \n
URL:https://www.sanqc.ca/event/jackbox-party-3/
LOCATION:Blackboard
ATTACH;FMTTYPE=image/jpeg:/wp-content/uploads/2021/04/May5Jackbox.jpeg
END:VEVENT
END:VCALENDAR