BEGIN:VCALENDAR
VERSION:2.0
PRODID:-//SANQC - ECPv4.9.14//NONSGML v1.0//EN
CALSCALE:GREGORIAN
METHOD:PUBLISH
X-WR-CALNAME:SANQC
X-ORIGINAL-URL:https://www.sanqc.ca
X-WR-CALDESC:Events for SANQC
BEGIN:VTIMEZONE
TZID:America/Edmonton
BEGIN:DAYLIGHT
TZOFFSETFROM:-0700
TZOFFSETTO:-0600
TZNAME:MDT
DTSTART:20210314T090000
END:DAYLIGHT
BEGIN:STANDARD
TZOFFSETFROM:-0600
TZOFFSETTO:-0700
TZNAME:MST
DTSTART:20211107T080000
END:STANDARD
END:VTIMEZONE
BEGIN:VEVENT
DTSTART;TZID=America/Edmonton:20210407T170000
DTEND;TZID=America/Edmonton:20210407T190000
DTSTAMP:20260423T213952
CREATED:20210319T224148Z
LAST-MODIFIED:20210323T212513Z
UID:6119-1617814800-1617822000@www.sanqc.ca
SUMMARY:Jackbox Party
DESCRIPTION:Its Jackbox Party time! Join us for quick\, fun rounds of playing Quiplash XL\, Fibbage 2 and Bidiots from Party Pack 2. Stay for the entire event or play a round or two with your fellow NorQuesters. \nQuiplash XL: Give your funniest answers to a series of questions and earn the most votes in a battle with your opponents. \nFibbage 2: Fib-til-you-win. Here’s your chance to fool your friends with clever lies. The more creative you are\, the easier it’ll be to trick your opponents into believing your answer. \nBidiots: A fun art auction game where you get to put your drawings for auction and bid on other players art pieces. You will be given some game money for your bidding to win the auction. \nYou’ll need access to 2 screens to play. That could be a combination of a computer and phone\, two mobile devices (phones or tablets) or two browser windows on your computer. If you haven’t played before don’t worry\, we will be there to help show you how. \nCurrent winter term NorQuest students will get a chance to win one of the four $10 gift cards. \nFind the fun on Blackboard here. \n
URL:https://www.sanqc.ca/event/jackboxapr7/
LOCATION:Blackboard
CATEGORIES:Social Events
ATTACH;FMTTYPE=image/png:/wp-content/uploads/2021/03/JackboxApr7-e1616534570571.png
END:VEVENT
END:VCALENDAR