BEGIN:VCALENDAR
VERSION:2.0
PRODID:-//SANQC - ECPv4.9.14//NONSGML v1.0//EN
CALSCALE:GREGORIAN
METHOD:PUBLISH
X-WR-CALNAME:SANQC
X-ORIGINAL-URL:https://www.sanqc.ca
X-WR-CALDESC:Events for SANQC
BEGIN:VTIMEZONE
TZID:America/Edmonton
BEGIN:DAYLIGHT
TZOFFSETFROM:-0700
TZOFFSETTO:-0600
TZNAME:MDT
DTSTART:20210314T090000
END:DAYLIGHT
BEGIN:STANDARD
TZOFFSETFROM:-0600
TZOFFSETTO:-0700
TZNAME:MST
DTSTART:20211107T080000
END:STANDARD
END:VTIMEZONE
BEGIN:VEVENT
DTSTART;TZID=America/Edmonton:20210729T130000
DTEND;TZID=America/Edmonton:20210729T150000
DTSTAMP:20260424T012926
CREATED:20210712T184829Z
LAST-MODIFIED:20210712T210447Z
UID:6432-1627563600-1627570800@www.sanqc.ca
SUMMARY:Jackbox Party
DESCRIPTION:We’ve added Jackbox Party pack 7 to the mix and it’s time to try it out! Invite your NorQuest friends to play “Quiplash”\, “Talking Points”\, “The Devils and the Details” and “Champed up” with us from 1 – 3 pm on Thu\, July 29. \nQuiplash: Give your funniest answers to a series of questions and earn the most votes in a battle of wits with your opponents. \nTalking Points: Test your public speaking skills and come up a speech on the spot while your assistant helps you by giving picture and word prompts. Keep talking whether it makes sense or not. \nThe Devils and the Details: In this collaborative game you’re a family of devils working together to survive in suburbia. Can you handle the daily torture of human life? \nChamp’d Up: Draw the best mascots for the prompts you are given in this dueling drawing competition. You will be asked to draw two characters to battle and compete for the winning votes. Multiple rounds will be fought to decide the ultimate winner. \nDon’t forget you’ll need 2 screens to play. That could be a combination of a computer and phone\, two mobile devices (phones or tablets) or two browser windows on your computer. \nJoin the fun on Blackboard here. \n
URL:https://www.sanqc.ca/event/jackboxjul29/
LOCATION:Blackboard
CATEGORIES:Social Events
ATTACH;FMTTYPE=image/png:/wp-content/uploads/2021/07/Jul29Jackbox.png
END:VEVENT
END:VCALENDAR