BEGIN:VCALENDAR
VERSION:2.0
PRODID:-//SANQC - ECPv4.9.14//NONSGML v1.0//EN
CALSCALE:GREGORIAN
METHOD:PUBLISH
X-WR-CALNAME:SANQC
X-ORIGINAL-URL:https://www.sanqc.ca
X-WR-CALDESC:Events for SANQC
BEGIN:VTIMEZONE
TZID:America/Edmonton
BEGIN:DAYLIGHT
TZOFFSETFROM:-0700
TZOFFSETTO:-0600
TZNAME:MDT
DTSTART:20210314T090000
END:DAYLIGHT
BEGIN:STANDARD
TZOFFSETFROM:-0600
TZOFFSETTO:-0700
TZNAME:MST
DTSTART:20211107T080000
END:STANDARD
END:VTIMEZONE
BEGIN:VEVENT
DTSTART;TZID=America/Edmonton:20210602T130000
DTEND;TZID=America/Edmonton:20210602T150000
DTSTAMP:20260423T154415
CREATED:20210503T203442Z
LAST-MODIFIED:20210504T181547Z
UID:6293-1622638800-1622646000@www.sanqc.ca
SUMMARY:Jackbox Party
DESCRIPTION:We’ve added Jackbox Party pack 7 to the mix and it’s time to try it out! Invite your NorQuest friends to play “Quiplash”\, “Talking Points”\, “The Devils and the Details” and “Champed up” with us. Here’s how to play: \nQuiplash: Give your funniest answers to a series of questions and earn the most votes in a battle of wits with your opponents. \nTalking Points: Test your public speaking skills and come up a speech on the spot while your assistant helps you by giving picture and word prompts. Keep talking whether it makes sense or not as the other players will be scoring your presentation. \nThe Devils and the Details: Play as a child\, teen or a parent from the family of devils. Complete human chores that come up and help your family reach the goal to survive. You’ll also get a chance to do some selfish tasks to increase your own score but be careful that your family doesn’t stop you! \nChamp’d Up: Draw the best mascots for the prompts you are given in this dueling drawing competition. You will be asked to draw two characters to battle and compete for the winning votes. Multiple rounds will be fought to decide the ultimate winner. \nWe will be giving out four $10 gift cards to spring term NorQuest students who join in the fun. \nDon’t forget you’ll need 2 screens to play. That could be a combination of a computer and phone\, two mobile devices (phones or tablets) or two browser windows on your computer. \nFind us on blackboard here. \n
URL:https://www.sanqc.ca/event/jackboxjun2/
LOCATION:Blackboard
CATEGORIES:Social Events
ATTACH;FMTTYPE=image/jpeg:/wp-content/uploads/2021/05/Jun2Jackbox.jpeg
END:VEVENT
END:VCALENDAR