BEGIN:VCALENDAR
VERSION:2.0
PRODID:-//SANQC - ECPv4.9.14//NONSGML v1.0//EN
CALSCALE:GREGORIAN
METHOD:PUBLISH
X-WR-CALNAME:SANQC
X-ORIGINAL-URL:https://www.sanqc.ca
X-WR-CALDESC:Events for SANQC
BEGIN:VTIMEZONE
TZID:America/Edmonton
BEGIN:DAYLIGHT
TZOFFSETFROM:-0700
TZOFFSETTO:-0600
TZNAME:MDT
DTSTART:20210314T090000
END:DAYLIGHT
BEGIN:STANDARD
TZOFFSETFROM:-0600
TZOFFSETTO:-0700
TZNAME:MST
DTSTART:20211107T080000
END:STANDARD
END:VTIMEZONE
BEGIN:VEVENT
DTSTART;TZID=America/Edmonton:20210630T130000
DTEND;TZID=America/Edmonton:20210630T150000
DTSTAMP:20260424T000544
CREATED:20210503T204038Z
LAST-MODIFIED:20210504T181722Z
UID:6297-1625058000-1625065200@www.sanqc.ca
SUMMARY:Jackbox Party
DESCRIPTION:It’s party time\, it’s party time\, it’s Jackbox Party time! Join us with your fellow NorQuest friends to play quick rounds of “Quiplash XL”\, “Fibbage 2” and Bidiots. If you don’t know to play don’t worry\, we’ve got you covered\, here’s how to play: \nQuiplash XL: Give your funniest answers to a series of questions and earn the most votes in a battle with your opponents. \nFibbage 2: Fib-til-you-win. Here’s your chance to fool your friends with clever lies. The more creative you are\, the easier it’ll be to trick your opponents into believing your answer. \nBidiots: A fun art auction game where you get to put your drawings for auction and bid on other players art pieces. You will be given some game money for your bidding to win the auction. \nYou’ll need access to 2 screens to play. That could be a combination of a computer and phone\, two mobile devices (phones or tablets) or two browser windows on your computer. If you haven’t played before don’t worry\, we’re there to help show you how. \n4 lucky spring term NorQuest students will win a $10 gift card during the event. The longer you play\, the better your chance to win! \nJoin the fun on Blackboard here. \n
URL:https://www.sanqc.ca/event/jackboxjun30/
LOCATION:Blackboard
CATEGORIES:Social Events
ATTACH;FMTTYPE=image/jpeg:/wp-content/uploads/2021/05/Jun30Jackbox.jpeg
END:VEVENT
END:VCALENDAR