BEGIN:VCALENDAR
VERSION:2.0
PRODID:-//SANQC - ECPv4.9.14//NONSGML v1.0//EN
CALSCALE:GREGORIAN
METHOD:PUBLISH
X-WR-CALNAME:SANQC
X-ORIGINAL-URL:https://www.sanqc.ca
X-WR-CALDESC:Events for SANQC
BEGIN:VTIMEZONE
TZID:America/Edmonton
BEGIN:DAYLIGHT
TZOFFSETFROM:-0700
TZOFFSETTO:-0600
TZNAME:MDT
DTSTART:20210314T090000
END:DAYLIGHT
BEGIN:STANDARD
TZOFFSETFROM:-0600
TZOFFSETTO:-0700
TZNAME:MST
DTSTART:20211107T080000
END:STANDARD
END:VTIMEZONE
BEGIN:VEVENT
DTSTART;TZID=America/Edmonton:20210310T170000
DTEND;TZID=America/Edmonton:20210310T190000
DTSTAMP:20260424T053136
CREATED:20210218T231348Z
LAST-MODIFIED:20210219T223404Z
UID:6055-1615395600-1615402800@www.sanqc.ca
SUMMARY:Jackbox Party
DESCRIPTION:We are back for more Jackbox Party excitement with you! This time we will be playing Jackbox Party Pack 4. Drop by for a bit or stay for the entire event and don’t forget to bring some of your NorQuest friends for even more fun! \nFibbage 3: Fib-til-you-win. Here’s your chance to fool your friends with clever lies. The more creative you are\, the easier it’ll be to trick your opponents into believing your answer. \nSurvive the Internet: Answer an opinion based question\, then your answer gets passed on to another player at random for them to add a funny twist to it! Then everybody votes for their favorite answer where you can earn bonus points! \nMonster Seeking Monster: Send secret messages and get other monsters to date you. Don’t forget to use your special powers to earn you more hearts! \nBracketeering: Make smart bets on stupid arguments\, once you submit your answers the question gets changed making your answers even more funny! \nCivic Doodle: Get a chance to beautify the town of Doodle Valley with your creative drawing skills. Players vote for what they like best\, then the next artists add to the design! \nIf you’ve never played before\, no worries\, we’re there to help show you how. Make sure you have access to 2 screens to play. That could be a combination of a computer and phone\, two mobile devices (phones or tablets) or two browser windows on your computer. \nAll winter term NorQuest students that participate will have a chance to win one of four $10 gift cards drawn for during the event. The longer you’re there\, the better your chance to win! \nJoin the fun from 5 – 7 pm on Wed\, March 10 on Blackboard here. \n
URL:https://www.sanqc.ca/event/jackboxmar10/
LOCATION:Blackboard
CATEGORIES:Social Events
ATTACH;FMTTYPE=image/jpeg:/wp-content/uploads/2021/02/Mar10JackboxWeb-e1613774026519.jpeg
END:VEVENT
END:VCALENDAR