BEGIN:VCALENDAR
VERSION:2.0
PRODID:-//SANQC - ECPv4.9.14//NONSGML v1.0//EN
CALSCALE:GREGORIAN
METHOD:PUBLISH
X-WR-CALNAME:SANQC
X-ORIGINAL-URL:https://www.sanqc.ca
X-WR-CALDESC:Events for SANQC
BEGIN:VTIMEZONE
TZID:America/Edmonton
BEGIN:DAYLIGHT
TZOFFSETFROM:-0700
TZOFFSETTO:-0600
TZNAME:MDT
DTSTART:20210314T090000
END:DAYLIGHT
BEGIN:STANDARD
TZOFFSETFROM:-0600
TZOFFSETTO:-0700
TZNAME:MST
DTSTART:20211107T080000
END:STANDARD
END:VTIMEZONE
BEGIN:VEVENT
DTSTART;TZID=America/Edmonton:20210324T133000
DTEND;TZID=America/Edmonton:20210324T153000
DTSTAMP:20260424T001204
CREATED:20210218T232851Z
LAST-MODIFIED:20210219T224557Z
UID:6057-1616592600-1616599800@www.sanqc.ca
SUMMARY:Jackbox Party
DESCRIPTION:Jackbox Party is back\, this time with Party Pack 3! Join us for fun rounds of Murder Party\, Quiplash 2\, Fakin’ It and Guesspionage. Whether it’s for a few rounds or the entire event\, bring your NorQuest friends to join forces or to claim bragging rights over them! \nMurder Party: Correctly answer trivia questions to stay alive and don’t get killed while you try to stay ahead of the game! If (likely when!) you become a ghost\, the game isn’t over\, so long as somebody is still alive\, there’s a chance for you to return to the living… \nQuiplash 2: Give your funniest answers to a series of questions and earn the most votes in a head to head battle with your opponents. \nGuesspionage: Guess what percentage of people do what the question is asking\, the closer you are\, the more points you get! Once you guess the other players guess if the actual answer is higher or lower than the original guess so everybody has a chance to earn points every round. \nDon’t forget you’ll need 2 screens to play. That could be a combination of a computer and phone\, two mobile devices (phones or tablets) or two browser windows on your computer. \nAll winter term NorQuest students that participate will have a chance to win one of four $10 gift cards drawn for during the event. The longer you play\, the better your chance to win! \nJoin the fun from 1:30 – 3:30 pm on Wed\, Mar 24 on Blackboard here. \n
URL:https://www.sanqc.ca/event/jackboxmar24/
LOCATION:Blackboard
CATEGORIES:Social Events
ATTACH;FMTTYPE=image/jpeg:/wp-content/uploads/2021/02/Mar24JackboxPartyWeb-e1613774742637.jpeg
END:VEVENT
END:VCALENDAR