BEGIN:VCALENDAR
VERSION:2.0
PRODID:-//SANQC - ECPv4.9.14//NONSGML v1.0//EN
CALSCALE:GREGORIAN
METHOD:PUBLISH
X-WR-CALNAME:SANQC
X-ORIGINAL-URL:https://www.sanqc.ca
X-WR-CALDESC:Events for SANQC
BEGIN:VTIMEZONE
TZID:America/Edmonton
BEGIN:DAYLIGHT
TZOFFSETFROM:-0700
TZOFFSETTO:-0600
TZNAME:MDT
DTSTART:20260308T090000
END:DAYLIGHT
BEGIN:STANDARD
TZOFFSETFROM:-0600
TZOFFSETTO:-0700
TZNAME:MST
DTSTART:20261101T080000
END:STANDARD
END:VTIMEZONE
BEGIN:VEVENT
DTSTART;VALUE=DATE:20260113
DTEND;VALUE=DATE:20260114
DTSTAMP:20260423T201642
CREATED:20250813T220643Z
LAST-MODIFIED:20251118T154720Z
UID:9747-1768262400-1768348799@www.sanqc.ca
SUMMARY:Slice\, Game & Snap
DESCRIPTION:Kick off the Winter term with your Your Students’ Association! Join us for some pizza\, games and get some pictures with your friends in our photo booth. \nGrab a slice starting at 11:30 while quantities last with games and the photo booth going from 11:30 am – 1:30 pm. We’ll have drinks and snacks as well! \nFirst come\, first served. While quantities last. \n  \n
URL:https://www.sanqc.ca/event/jan13slicegamesnap/
LOCATION:Atrium (1-001)\, 10215 108 St NW\, Edmonton\, Alberta\, T5J 1L6\, Canada
CATEGORIES:Social Events
ATTACH;FMTTYPE=image/png:/wp-content/uploads/2025/11/Slice-Game-and-Snap.png
END:VEVENT
END:VCALENDAR