BEGIN:VCALENDAR
VERSION:2.0
PRODID:-//SANQC - ECPv4.9.14//NONSGML v1.0//EN
CALSCALE:GREGORIAN
METHOD:PUBLISH
X-WR-CALNAME:SANQC
X-ORIGINAL-URL:https://www.sanqc.ca
X-WR-CALDESC:Events for SANQC
BEGIN:VTIMEZONE
TZID:America/Edmonton
BEGIN:DAYLIGHT
TZOFFSETFROM:-0700
TZOFFSETTO:-0600
TZNAME:MDT
DTSTART:20230312T090000
END:DAYLIGHT
BEGIN:STANDARD
TZOFFSETFROM:-0600
TZOFFSETTO:-0700
TZNAME:MST
DTSTART:20231105T080000
END:STANDARD
END:VTIMEZONE
BEGIN:VEVENT
DTSTART;TZID=America/Edmonton:20230705T130000
DTEND;TZID=America/Edmonton:20230705T150000
DTSTAMP:20260424T000645
CREATED:20230615T172100Z
LAST-MODIFIED:20230629T182019Z
UID:8429-1688562000-1688569200@www.sanqc.ca
SUMMARY:Jackbox Party
DESCRIPTION:It’s Jackbox Party time! Join us and your NorQuest friends for some quick rounds of “Quiplash XL”\, “Fibbage 2” and Bidiots. If you don’t know to how to play don’t worry\, we’ve got you covered\, here’s how to play: \n\nQuiplash XL: Give your funniest answers to a series of questions and earn the most votes in a battle with your opponents.\nFibbage 2: Fib-til-you-win. Here’s your chance to fool your friends with clever lies. The more creative you are\, the easier it’ll be to trick your opponents into believing your answer.\nBidiots: A fun art auction game where you get to put your drawings up for auction and bid on other players art pieces. You will be given some in-game money to bid on the auctions.\n\nYou’ll need access to 2 screens to play. That could be a combination of a computer and phone\, two mobile devices (phones or tablets) or two browser windows on your computer. \nOne lucky 2023 Spring term NorQuest student who plays will win a $50 gift card! \nJoin the fun on Blackboard HERE. \n  \n
URL:https://www.sanqc.ca/event/jul5jackbox/
LOCATION:Blackboard
CATEGORIES:Social Events
ATTACH;FMTTYPE=image/png:/wp-content/uploads/2023/06/Jul5Jackbox.png
END:VEVENT
END:VCALENDAR