BEGIN:VCALENDAR
VERSION:2.0
PRODID:-//SANQC - ECPv4.9.14//NONSGML v1.0//EN
CALSCALE:GREGORIAN
METHOD:PUBLISH
X-WR-CALNAME:SANQC
X-ORIGINAL-URL:https://www.sanqc.ca
X-WR-CALDESC:Events for SANQC
BEGIN:VTIMEZONE
TZID:America/Edmonton
BEGIN:DAYLIGHT
TZOFFSETFROM:-0700
TZOFFSETTO:-0600
TZNAME:MDT
DTSTART:20250309T090000
END:DAYLIGHT
BEGIN:STANDARD
TZOFFSETFROM:-0600
TZOFFSETTO:-0700
TZNAME:MST
DTSTART:20251102T080000
END:STANDARD
END:VTIMEZONE
BEGIN:VEVENT
DTSTART;TZID=America/Edmonton:20250709T110000
DTEND;TZID=America/Edmonton:20250709T140000
DTSTAMP:20260423T215936
CREATED:20250625T143146Z
LAST-MODIFIED:20250625T213629Z
UID:9694-1752058800-1752069600@www.sanqc.ca
SUMMARY:Games Café
DESCRIPTION:Take a break\, relax\, and connect with fellow students at our Games Café! \nJoin your Students’ Association on Wed\, July 9 in the Atrium from 11 am – 2 pm for a fun-filled time featuring a variety of board games\, snacks\, card games and a little friendly competition at the ping pong tables. \nWhether you’re looking to unwind or meet new people\, there’s something for everyone. \n  \n
URL:https://www.sanqc.ca/event/jul9gamescafe/
LOCATION:Atrium (1-001)\, 10215 108 St NW\, Edmonton\, Alberta\, T5J 1L6\, Canada
CATEGORIES:Social Events
ATTACH;FMTTYPE=image/png:/wp-content/uploads/2025/06/Games-Cafe-July-9-1080-x-1080.png
END:VEVENT
END:VCALENDAR