BEGIN:VCALENDAR
VERSION:2.0
PRODID:-//SANQC - ECPv4.9.14//NONSGML v1.0//EN
CALSCALE:GREGORIAN
METHOD:PUBLISH
X-WR-CALNAME:SANQC
X-ORIGINAL-URL:https://www.sanqc.ca
X-WR-CALDESC:Events for SANQC
BEGIN:VTIMEZONE
TZID:America/Edmonton
BEGIN:DAYLIGHT
TZOFFSETFROM:-0700
TZOFFSETTO:-0600
TZNAME:MDT
DTSTART:20230312T090000
END:DAYLIGHT
BEGIN:STANDARD
TZOFFSETFROM:-0600
TZOFFSETTO:-0700
TZNAME:MST
DTSTART:20231105T080000
END:STANDARD
END:VTIMEZONE
BEGIN:VEVENT
DTSTART;VALUE=DATE:20230612
DTEND;VALUE=DATE:20230613
DTSTAMP:20260423T223419
CREATED:20230503T162741Z
LAST-MODIFIED:20230525T205732Z
UID:8369-1686528000-1686614399@www.sanqc.ca
SUMMARY:Snack Bar
DESCRIPTION:Don’t miss the SANQC Snack Bar on Mon\, Jun 12\, starting at 11 am! \nLocated across from the stairs in the Atrium\, come grab a bite to eat and refuel for your exams. We’ll have a variety of delicious snacks including wraps\, chips\, fruit\, and drinks. \nRemember\, all supplies are available on a first come\, first serve basis\, so be sure to arrive early to snag some snacks before they’re gone! \n  \n
URL:https://www.sanqc.ca/event/jun12snackbar/
LOCATION:Atrium (1-001)\, 10215 108 St NW\, Edmonton\, Alberta\, T5J 1L6\, Canada
CATEGORIES:Mental Health Events
ATTACH;FMTTYPE=image/png:/wp-content/uploads/2023/05/June-12-Snack-Bar.png
END:VEVENT
END:VCALENDAR