BEGIN:VCALENDAR
VERSION:2.0
PRODID:-//SANQC - ECPv4.9.14//NONSGML v1.0//EN
CALSCALE:GREGORIAN
METHOD:PUBLISH
X-WR-CALNAME:SANQC
X-ORIGINAL-URL:https://www.sanqc.ca
X-WR-CALDESC:Events for SANQC
BEGIN:VTIMEZONE
TZID:America/Edmonton
BEGIN:DAYLIGHT
TZOFFSETFROM:-0700
TZOFFSETTO:-0600
TZNAME:MDT
DTSTART:20230312T090000
END:DAYLIGHT
BEGIN:STANDARD
TZOFFSETFROM:-0600
TZOFFSETTO:-0700
TZNAME:MST
DTSTART:20231105T080000
END:STANDARD
END:VTIMEZONE
BEGIN:VEVENT
DTSTART;TZID=America/Edmonton:20230613T100000
DTEND;TZID=America/Edmonton:20230613T120000
DTSTAMP:20260423T212648
CREATED:20230606T205211Z
LAST-MODIFIED:20230609T201320Z
UID:8425-1686650400-1686657600@www.sanqc.ca
SUMMARY:Clubs Day
DESCRIPTION:If you’ve been looking to join a student club or if you want to learn more about them\, this is your chance! Join us to find your perfect fit at our Clubs Day event on Tue\, Jun 13 from 10 am to 12 pm in the Atrium\, SCFL. Check out all the different clubs that are happening on campus and how you could start one of your own. \nEvery Spring term NorQuest student who participates in our treasure hunt will have a chance to collect some tasty treats and maybe win the big prize! \n  \n
URL:https://www.sanqc.ca/event/jun13clubsday/
LOCATION:Atrium (1-001)\, 10215 108 St NW\, Edmonton\, Alberta\, T5J 1L6\, Canada
CATEGORIES:Student Club Event
ATTACH;FMTTYPE=image/png:/wp-content/uploads/2023/06/Clubs-Day.png
END:VEVENT
END:VCALENDAR