BEGIN:VCALENDAR
VERSION:2.0
PRODID:-//SANQC - ECPv4.9.14//NONSGML v1.0//EN
CALSCALE:GREGORIAN
METHOD:PUBLISH
X-WR-CALNAME:SANQC
X-ORIGINAL-URL:https://www.sanqc.ca
X-WR-CALDESC:Events for SANQC
BEGIN:VTIMEZONE
TZID:America/Edmonton
BEGIN:DAYLIGHT
TZOFFSETFROM:-0700
TZOFFSETTO:-0600
TZNAME:MDT
DTSTART:20230312T090000
END:DAYLIGHT
BEGIN:STANDARD
TZOFFSETFROM:-0600
TZOFFSETTO:-0700
TZNAME:MST
DTSTART:20231105T080000
END:STANDARD
END:VTIMEZONE
BEGIN:VEVENT
DTSTART;TZID=America/Edmonton:20230614T110000
DTEND;TZID=America/Edmonton:20230614T140000
DTSTAMP:20260423T212330
CREATED:20230503T151454Z
LAST-MODIFIED:20230525T205900Z
UID:8365-1686740400-1686751200@www.sanqc.ca
SUMMARY:Games Café
DESCRIPTION:Join us in the Atrium from 11 am – 2 pm on Wed\, Jun 14 for some ping pong and board games! Challenge your friends and see who’ll win bragging rights! \nSnacks and drinks will be supplied while quantities last. \n  \n
URL:https://www.sanqc.ca/event/jun14games/
LOCATION:Atrium (1-001)\, 10215 108 St NW\, Edmonton\, Alberta\, T5J 1L6\, Canada
CATEGORIES:Social Events
ATTACH;FMTTYPE=image/png:/wp-content/uploads/2023/05/June-14-Games-Cafe.png
END:VEVENT
END:VCALENDAR