BEGIN:VCALENDAR
VERSION:2.0
PRODID:-//SANQC - ECPv4.9.14//NONSGML v1.0//EN
CALSCALE:GREGORIAN
METHOD:PUBLISH
X-WR-CALNAME:SANQC
X-ORIGINAL-URL:https://www.sanqc.ca
X-WR-CALDESC:Events for SANQC
BEGIN:VTIMEZONE
TZID:America/Edmonton
BEGIN:DAYLIGHT
TZOFFSETFROM:-0700
TZOFFSETTO:-0600
TZNAME:MDT
DTSTART:20250309T090000
END:DAYLIGHT
BEGIN:STANDARD
TZOFFSETFROM:-0600
TZOFFSETTO:-0700
TZNAME:MST
DTSTART:20251102T080000
END:STANDARD
END:VTIMEZONE
BEGIN:VEVENT
DTSTART;VALUE=DATE:20250618
DTEND;VALUE=DATE:20250619
DTSTAMP:20260423T221420
CREATED:20240826T145011Z
LAST-MODIFIED:20250527T220613Z
UID:9253-1750204800-1750291199@www.sanqc.ca
SUMMARY:SANQC Snack Bar
DESCRIPTION:Don’t miss the SANQC Snack Bar starting at 11 am on Wed\, Jun 18 (while supplies last)! \nLocated across from the stairs in the Atrium\, grab a bite to eat and refuel for your exams. We’ll have a variety of delicious snacks including wraps\, chips\, fruit\, and drinks. \nRemember\, all supplies are available on a first come\, first serve basis\, so be sure to arrive early to snag some snacks before they’re gone! \n  \n
URL:https://www.sanqc.ca/event/jun18snacks/
LOCATION:Atrium (1-001)\, 10215 108 St NW\, Edmonton\, Alberta\, T5J 1L6\, Canada
CATEGORIES:Mental Health Events
ATTACH;FMTTYPE=image/jpeg:/wp-content/uploads/2024/08/June-18-Snack-Bar-1080-x-1080.jpg
END:VEVENT
END:VCALENDAR