BEGIN:VCALENDAR
VERSION:2.0
PRODID:-//SANQC - ECPv4.9.14//NONSGML v1.0//EN
CALSCALE:GREGORIAN
METHOD:PUBLISH
X-WR-CALNAME:SANQC
X-ORIGINAL-URL:https://www.sanqc.ca
X-WR-CALDESC:Events for SANQC
BEGIN:VTIMEZONE
TZID:America/Edmonton
BEGIN:DAYLIGHT
TZOFFSETFROM:-0700
TZOFFSETTO:-0600
TZNAME:MDT
DTSTART:20230312T090000
END:DAYLIGHT
BEGIN:STANDARD
TZOFFSETFROM:-0600
TZOFFSETTO:-0700
TZNAME:MST
DTSTART:20231105T080000
END:STANDARD
END:VTIMEZONE
BEGIN:VEVENT
DTSTART;VALUE=DATE:20230622
DTEND;VALUE=DATE:20230623
DTSTAMP:20260423T224221
CREATED:20230503T151758Z
LAST-MODIFIED:20230525T205943Z
UID:8367-1687392000-1687478399@www.sanqc.ca
SUMMARY:Edmonton Trivia
DESCRIPTION:Are you looking to explore Edmonton this summer? Join us and discover some of the best spots and festivals you can visit through our Edmonton Trivia! \nWatch our Facebook and Instagram stories on Thu\, Jun 22 then answer our trivia questions about places in Edmonton to visit during the summer. Every question you answer correctly will give you an extra entry for a chance to win one of two $25 gift card! \nMake sure to follow us on Facebook & Instagram @norquestsa for your chance to play and win! \n  \n
URL:https://www.sanqc.ca/event/jun22trivia/
CATEGORIES:Social Events
ATTACH;FMTTYPE=image/png:/wp-content/uploads/2023/05/June-22-Edmonton-Trivia.png
END:VEVENT
END:VCALENDAR