BEGIN:VCALENDAR
VERSION:2.0
PRODID:-//SANQC - ECPv4.9.14//NONSGML v1.0//EN
CALSCALE:GREGORIAN
METHOD:PUBLISH
X-WR-CALNAME:SANQC
X-ORIGINAL-URL:https://www.sanqc.ca
X-WR-CALDESC:Events for SANQC
BEGIN:VTIMEZONE
TZID:America/Edmonton
BEGIN:DAYLIGHT
TZOFFSETFROM:-0700
TZOFFSETTO:-0600
TZNAME:MDT
DTSTART:20220313T090000
END:DAYLIGHT
BEGIN:STANDARD
TZOFFSETFROM:-0600
TZOFFSETTO:-0700
TZNAME:MST
DTSTART:20221106T080000
END:STANDARD
END:VTIMEZONE
BEGIN:VEVENT
DTSTART;TZID=America/Edmonton:20220628T110000
DTEND;TZID=America/Edmonton:20220628T140000
DTSTAMP:20260424T064122
CREATED:20220526T211148Z
LAST-MODIFIED:20220601T193238Z
UID:7660-1656414000-1656424800@www.sanqc.ca
SUMMARY:Games Cafe
DESCRIPTION:Join us in the Multi-Purpose Space (SCFL\, 1-096) to play some ping pong and board games! Challenge your friends and see who’ll win bragging rights! \nSnacks and juice will be supplied while quantities last. \n  \n
URL:https://www.sanqc.ca/event/jun28gamescafe/
LOCATION:SANQC Multi-Purpose Space (1-096)\, 10215 108 St NW\, Edmonton\, Alberta\, T5J 1L6\, Canada
CATEGORIES:Social Events
ATTACH;FMTTYPE=image/png:/wp-content/uploads/2022/05/Jun28GamesCafe.png
END:VEVENT
END:VCALENDAR