BEGIN:VCALENDAR
VERSION:2.0
PRODID:-//SANQC - ECPv4.9.14//NONSGML v1.0//EN
CALSCALE:GREGORIAN
METHOD:PUBLISH
X-WR-CALNAME:SANQC
X-ORIGINAL-URL:https://www.sanqc.ca
X-WR-CALDESC:Events for SANQC
BEGIN:VTIMEZONE
TZID:America/Edmonton
BEGIN:DAYLIGHT
TZOFFSETFROM:-0700
TZOFFSETTO:-0600
TZNAME:MDT
DTSTART:20220313T090000
END:DAYLIGHT
BEGIN:STANDARD
TZOFFSETFROM:-0600
TZOFFSETTO:-0700
TZNAME:MST
DTSTART:20221106T080000
END:STANDARD
END:VTIMEZONE
BEGIN:VEVENT
DTSTART;TZID=America/Edmonton:20220602T130000
DTEND;TZID=America/Edmonton:20220602T150000
DTSTAMP:20260424T051247
CREATED:20220526T204644Z
LAST-MODIFIED:20220601T193211Z
UID:7648-1654174800-1654182000@www.sanqc.ca
SUMMARY:Codenames
DESCRIPTION:Join SANQC on Blackboard for a fun afternoon playing Codenames! You’ll play as either a spymaster or an operative while your team tries to solve your clues before the other team solves theirs. \nNo experience needed! It’s quick and simple to learn and we’ll be there to make sure you know how to play and will match you up with a team. \nSpring 2022 term NorQuest students who attend will have a chance to win one of the two $25 amazon gift cards! \nJoin in the fun on Blackboard here. \n  \n
URL:https://www.sanqc.ca/event/jun2codenames/
LOCATION:Blackboard
CATEGORIES:Social Events
ATTACH;FMTTYPE=image/png:/wp-content/uploads/2022/05/Jun2Codenames.png
END:VEVENT
END:VCALENDAR