BEGIN:VCALENDAR
VERSION:2.0
PRODID:-//SANQC - ECPv4.9.14//NONSGML v1.0//EN
CALSCALE:GREGORIAN
METHOD:PUBLISH
X-WR-CALNAME:SANQC
X-ORIGINAL-URL:https://www.sanqc.ca
X-WR-CALDESC:Events for SANQC
BEGIN:VTIMEZONE
TZID:America/Edmonton
BEGIN:DAYLIGHT
TZOFFSETFROM:-0700
TZOFFSETTO:-0600
TZNAME:MDT
DTSTART:20230312T090000
END:DAYLIGHT
BEGIN:STANDARD
TZOFFSETFROM:-0600
TZOFFSETTO:-0700
TZNAME:MST
DTSTART:20231105T080000
END:STANDARD
END:VTIMEZONE
BEGIN:VEVENT
DTSTART;TZID=America/Edmonton:20230607T120000
DTEND;TZID=America/Edmonton:20230607T140000
DTSTAMP:20260423T224155
CREATED:20230503T151353Z
LAST-MODIFIED:20230525T210124Z
UID:8363-1686139200-1686146400@www.sanqc.ca
SUMMARY:Jackbox Party
DESCRIPTION:Party time! It’s Jackbox Party time! Join us with your NorQuest friends to play quick rounds of “Quiplash XL”\, “Fibbage 2” and Bidiots. If you don’t know to how to play don’t worry\, we’ve got you covered\, here’s how to play: \n\nQuiplash XL: Give your funniest answers to a series of questions and earn the most votes in a battle with your opponents.\nFibbage 2: Fib-til-you-win. Here’s your chance to fool your friends with clever lies. The more creative you are\, the easier it’ll be to trick your opponents into believing your answer.\nBidiots: A fun art auction game where you get to put your drawings for auction and bid on other players art pieces. You will be given some game money for your bidding to win the auction.\n\nYou’ll need access to 2 screens to play. That could be a combination of a computer and phone\, two mobile devices (phones or tablets) or two browser windows on your computer. \nOne lucky 2023 Spring term NorQuest student who plays will win a $50 gift card! \nJoin the fun on Blackboard HERE. \n  \n
URL:https://www.sanqc.ca/event/jun7jackbox/
LOCATION:Blackboard
CATEGORIES:Social Events
ATTACH;FMTTYPE=image/png:/wp-content/uploads/2023/05/Jun-7-Jackbox-Party.png
END:VEVENT
END:VCALENDAR