BEGIN:VCALENDAR
VERSION:2.0
PRODID:-//SANQC - ECPv4.9.14//NONSGML v1.0//EN
CALSCALE:GREGORIAN
METHOD:PUBLISH
X-WR-CALNAME:SANQC
X-ORIGINAL-URL:https://www.sanqc.ca
X-WR-CALDESC:Events for SANQC
BEGIN:VTIMEZONE
TZID:America/Edmonton
BEGIN:DAYLIGHT
TZOFFSETFROM:-0700
TZOFFSETTO:-0600
TZNAME:MDT
DTSTART:20190310T090000
END:DAYLIGHT
BEGIN:STANDARD
TZOFFSETFROM:-0600
TZOFFSETTO:-0700
TZNAME:MST
DTSTART:20191103T080000
END:STANDARD
END:VTIMEZONE
BEGIN:VEVENT
DTSTART;TZID=America/Edmonton:20190411T110000
DTEND;TZID=America/Edmonton:20190411T140000
DTSTAMP:20260423T165350
CREATED:20190319T210036Z
LAST-MODIFIED:20190322T150813Z
UID:3756-1554980400-1554991200@www.sanqc.ca
SUMMARY:Keychain Making and Pow Wow Music
DESCRIPTION:Stop by the Indigenous Student Center\, with their resident Elder Delores\, to make your own beaded keychain and enjoy some traditional music! \n
URL:https://www.sanqc.ca/event/keychain-and-pow-wow-music/
LOCATION:Miyo-Pimâtisiwin Centre\, 1-151\, 10215 108 St NW\, Edmonton\, AB\, T5J 1L6\, Canada
CATEGORIES:NorQuest Event
END:VEVENT
END:VCALENDAR