BEGIN:VCALENDAR
VERSION:2.0
PRODID:-//SANQC - ECPv4.9.14//NONSGML v1.0//EN
CALSCALE:GREGORIAN
METHOD:PUBLISH
X-WR-CALNAME:SANQC
X-ORIGINAL-URL:https://www.sanqc.ca
X-WR-CALDESC:Events for SANQC
BEGIN:VTIMEZONE
TZID:America/Edmonton
BEGIN:DAYLIGHT
TZOFFSETFROM:-0700
TZOFFSETTO:-0600
TZNAME:MDT
DTSTART:20200308T090000
END:DAYLIGHT
BEGIN:STANDARD
TZOFFSETFROM:-0600
TZOFFSETTO:-0700
TZNAME:MST
DTSTART:20201101T080000
END:STANDARD
END:VTIMEZONE
BEGIN:VEVENT
DTSTART;TZID=America/Edmonton:20201117T120000
DTEND;TZID=America/Edmonton:20201117T123000
DTSTAMP:20260423T230916
CREATED:20201109T013657Z
LAST-MODIFIED:20201109T182651Z
UID:5462-1605614400-1605616200@www.sanqc.ca
SUMMARY:Learn @ Lunch • Helping Hands
DESCRIPTION:Join SANQC staff members Amy and Desiree for our Facebook Live Learn @ Lunch session where you’ll learn about our updated Helping Hands campaign taking place this holiday season. \nThe Helping Hands program is a holiday gift program available to NorQuest students in need. Stop by to find out how and when to register for this campaign and what changes have been made to accommodate the new virtual setting on campus. \nAll current Fall term NorQuest students who join us during the Live will can enter to win a $25 gift card! \n
URL:https://www.sanqc.ca/event/latlhelpinghands/
LOCATION:Facebook Live
CATEGORIES:Mental Health Events
ATTACH;FMTTYPE=image/jpeg:/wp-content/uploads/2020/11/LatLHH-e1604946215481.jpeg
END:VEVENT
END:VCALENDAR