BEGIN:VCALENDAR
VERSION:2.0
PRODID:-//SANQC - ECPv4.9.14//NONSGML v1.0//EN
CALSCALE:GREGORIAN
METHOD:PUBLISH
X-WR-CALNAME:SANQC
X-ORIGINAL-URL:https://www.sanqc.ca
X-WR-CALDESC:Events for SANQC
BEGIN:VTIMEZONE
TZID:America/Edmonton
BEGIN:DAYLIGHT
TZOFFSETFROM:-0700
TZOFFSETTO:-0600
TZNAME:MDT
DTSTART:20210314T090000
END:DAYLIGHT
BEGIN:STANDARD
TZOFFSETFROM:-0600
TZOFFSETTO:-0700
TZNAME:MST
DTSTART:20211107T080000
END:STANDARD
END:VTIMEZONE
BEGIN:VEVENT
DTSTART;TZID=America/Edmonton:20210209T120000
DTEND;TZID=America/Edmonton:20210209T123000
DTSTAMP:20260424T072048
CREATED:20210119T205524Z
LAST-MODIFIED:20210125T232710Z
UID:5945-1612872000-1612873800@www.sanqc.ca
SUMMARY:Learn @ Lunch • MyLegalPlan
DESCRIPTION:Join us for our Learn @ Lunch on Facebook Live to learn about MyLegalPlan with special guest Sean Gallivan\, Client Relations Specialist from Gallivan. \nMyLegalPlan is a program available to full-time NorQuest students who were assessed and have paid the Students’ Association fee. This program grants students access to FREE 24/7 legal hotlines\, an online legal consultation booking system\, legal library and customizable legal documents. \nAll current winter term NorQuest students who join us during the Live will have a chance to win a $25 gift card! \n  \n
URL:https://www.sanqc.ca/event/latlmylegalplanfeb21/
LOCATION:Facebook Live
CATEGORIES:Mental Health Events
ATTACH;FMTTYPE=image/jpeg:/wp-content/uploads/2021/01/MLP.jpeg
END:VEVENT
END:VCALENDAR