BEGIN:VCALENDAR
VERSION:2.0
PRODID:-//SANQC - ECPv4.9.14//NONSGML v1.0//EN
CALSCALE:GREGORIAN
METHOD:PUBLISH
X-WR-CALNAME:SANQC
X-ORIGINAL-URL:https://www.sanqc.ca
X-WR-CALDESC:Events for SANQC
BEGIN:VTIMEZONE
TZID:America/Edmonton
BEGIN:DAYLIGHT
TZOFFSETFROM:-0700
TZOFFSETTO:-0600
TZNAME:MDT
DTSTART:20210314T090000
END:DAYLIGHT
BEGIN:STANDARD
TZOFFSETFROM:-0600
TZOFFSETTO:-0700
TZNAME:MST
DTSTART:20211107T080000
END:STANDARD
END:VTIMEZONE
BEGIN:VEVENT
DTSTART;TZID=America/Edmonton:20210112T120000
DTEND;TZID=America/Edmonton:20210112T123000
DTSTAMP:20260424T032732
CREATED:20201231T230234Z
LAST-MODIFIED:20201231T230507Z
UID:5892-1610452800-1610454600@www.sanqc.ca
SUMMARY:Learn @ Lunch • Students' Council Elections
DESCRIPTION:If you’re interested in becoming a student leader\, learning new skills and making a difference for students at NorQuest or just want to know more about what Students’ Council is\, this Learn @ Lunch is for you! \nJoin us on Tue\, Jan 12 from 12 – 12:30 pm for this Facebook Live session about the upcoming Students’ Council election. Our special guest\, Cherie Sawaryn\, will discuss how the election works\, why it’s so important as well as what makes being a Students’ Council member so rewarding while you’re at NorQuest and how it can enhance your resume and skillset after you graduate. \nAll current Winter term NorQuest students who join us during the Live will have a chance to win a $25 gift card! \n
URL:https://www.sanqc.ca/event/latlwinter2021elections/
LOCATION:Facebook Live
CATEGORIES:Students' Council
ATTACH;FMTTYPE=image/jpeg:/wp-content/uploads/2020/12/Election.jpeg
END:VEVENT
END:VCALENDAR