BEGIN:VCALENDAR
VERSION:2.0
PRODID:-//SANQC - ECPv4.9.14//NONSGML v1.0//EN
CALSCALE:GREGORIAN
METHOD:PUBLISH
X-WR-CALNAME:SANQC
X-ORIGINAL-URL:https://www.sanqc.ca
X-WR-CALDESC:Events for SANQC
BEGIN:VTIMEZONE
TZID:America/Edmonton
BEGIN:DAYLIGHT
TZOFFSETFROM:-0700
TZOFFSETTO:-0600
TZNAME:MDT
DTSTART:20210314T090000
END:DAYLIGHT
BEGIN:STANDARD
TZOFFSETFROM:-0600
TZOFFSETTO:-0700
TZNAME:MST
DTSTART:20211107T080000
END:STANDARD
END:VTIMEZONE
BEGIN:VEVENT
DTSTART;TZID=America/Edmonton:20210217T120000
DTEND;TZID=America/Edmonton:20210217T123000
DTSTAMP:20260424T072058
CREATED:20210212T190149Z
LAST-MODIFIED:20210212T205222Z
UID:6025-1613563200-1613565000@www.sanqc.ca
SUMMARY:Learn @ Lunch • Taxes
DESCRIPTION:Bring your lunch and join us on Facebook Live on Wed\, Feb 17 from 12 – 12:30 pm with community volunteer and NorQuest employee Heather MacKinnon to find out how you can have your taxes done as a student. \nHeather will share information on taxes and what documents you’ll need to have them done in a timely and affordable way. She’ll also have a list of tax deductions you might be eligible for and can help guide you to getting the most out of tax time. \nAll current Winter term NorQuest students who join us during this session will have a chance to win a $25 gift card. See you there! \n  \n
URL:https://www.sanqc.ca/event/learnatlunchtaxesfeb17/
LOCATION:Facebook Live
CATEGORIES:Mental Health Events
ATTACH;FMTTYPE=image/jpeg:/wp-content/uploads/2021/02/Feb17TaxesWeb-e1613163133315.jpeg
END:VEVENT
END:VCALENDAR