BEGIN:VCALENDAR
VERSION:2.0
PRODID:-//SANQC - ECPv4.9.14//NONSGML v1.0//EN
CALSCALE:GREGORIAN
METHOD:PUBLISH
X-WR-CALNAME:SANQC
X-ORIGINAL-URL:https://www.sanqc.ca
X-WR-CALDESC:Events for SANQC
BEGIN:VTIMEZONE
TZID:America/Edmonton
BEGIN:DAYLIGHT
TZOFFSETFROM:-0700
TZOFFSETTO:-0600
TZNAME:MDT
DTSTART:20260308T090000
END:DAYLIGHT
BEGIN:STANDARD
TZOFFSETFROM:-0600
TZOFFSETTO:-0700
TZNAME:MST
DTSTART:20261101T080000
END:STANDARD
END:VTIMEZONE
BEGIN:VEVENT
DTSTART;TZID=America/Edmonton:20260225T093000
DTEND;TZID=America/Edmonton:20260225T110000
DTSTAMP:20260423T201442
CREATED:20260204T162235Z
LAST-MODIFIED:20260204T162313Z
UID:10214-1772011800-1772017200@www.sanqc.ca
SUMMARY:Living Room Conversation • Kindness
DESCRIPTION:Join your Students’ Association for our Living Room Conversation on Wed\, Feb 25\, from 9:30 – 11 am. \nThis is an open-communication opportunity to meet new people\, connect\, engage\, and express yourself authentically. \nThis session will center on Kindness and what it means to us. \nThe conversation will be facilitated\, but we encourage students to engage and direct the discussion to maximize their benefit from the experience. \nRegister for free HERE. \n  \n
URL:https://www.sanqc.ca/event/lrckindness/
CATEGORIES:Mental Health Events,Social Events
ATTACH;FMTTYPE=image/jpeg:/wp-content/uploads/2026/02/LRC-Website.jpg
END:VEVENT
END:VCALENDAR