BEGIN:VCALENDAR
VERSION:2.0
PRODID:-//SANQC - ECPv4.9.14//NONSGML v1.0//EN
CALSCALE:GREGORIAN
METHOD:PUBLISH
X-WR-CALNAME:SANQC
X-ORIGINAL-URL:https://www.sanqc.ca
X-WR-CALDESC:Events for SANQC
BEGIN:VTIMEZONE
TZID:America/Edmonton
BEGIN:DAYLIGHT
TZOFFSETFROM:-0700
TZOFFSETTO:-0600
TZNAME:MDT
DTSTART:20200308T090000
END:DAYLIGHT
BEGIN:STANDARD
TZOFFSETFROM:-0600
TZOFFSETTO:-0700
TZNAME:MST
DTSTART:20201101T080000
END:STANDARD
END:VTIMEZONE
BEGIN:VEVENT
DTSTART;TZID=America/Edmonton:20200521T123000
DTEND;TZID=America/Edmonton:20200521T140000
DTSTAMP:20260424T114845
CREATED:20200512T204355Z
LAST-MODIFIED:20200522T181327Z
UID:5107-1590064200-1590069600@www.sanqc.ca
SUMMARY:Lunch & Learn • COVID-19 Support for Students
DESCRIPTION:NorQuest employee Olga Leshcheva will be providing information on COVID-19 supports that may be available to students. She will present information on what financial reliefs are available and which you may qualify for and how you can apply. \nSession A: 12:30 – 1 pm\, join the Blackboard session here \nSession B: 1:30 – 2 pm\, join the Blackboard session here \nAll attendees will be entered to win a $25 gift card. \n
URL:https://www.sanqc.ca/event/lunch-learn-%e2%80%a2-covid-19-support-for-students/
LOCATION:Blackboard
CATEGORIES:Mental Health Events
ATTACH;FMTTYPE=image/jpeg:/wp-content/uploads/2020/05/LLSupport.jpeg
END:VEVENT
END:VCALENDAR