BEGIN:VCALENDAR
VERSION:2.0
PRODID:-//SANQC - ECPv4.9.14//NONSGML v1.0//EN
CALSCALE:GREGORIAN
METHOD:PUBLISH
X-WR-CALNAME:SANQC
X-ORIGINAL-URL:https://www.sanqc.ca
X-WR-CALDESC:Events for SANQC
BEGIN:VTIMEZONE
TZID:America/Edmonton
BEGIN:DAYLIGHT
TZOFFSETFROM:-0700
TZOFFSETTO:-0600
TZNAME:MDT
DTSTART:20190310T090000
END:DAYLIGHT
BEGIN:STANDARD
TZOFFSETFROM:-0600
TZOFFSETTO:-0700
TZNAME:MST
DTSTART:20191103T080000
END:STANDARD
END:VTIMEZONE
BEGIN:VEVENT
DTSTART;VALUE=DATE:20191107
DTEND;VALUE=DATE:20191108
DTSTAMP:20260424T074059
CREATED:20191030T162116Z
LAST-MODIFIED:20191030T175824Z
UID:4347-1573084800-1573171199@www.sanqc.ca
SUMMARY:Lunch & Learn • Credit 101
DESCRIPTION:What is a good credit score\, 600\, 700 or 800? Learn what factors are impacting your credit score\, bust some myths\, and get advice from your ATB Banker on how to improve your score. \nAll participants will receive a free lunch. All pre-registered attendees will be entered to win a $50 gift card! \nSession A: 11:15 – 11:45 am • Session B: 12:15 – 12:45 pm \n
URL:https://www.sanqc.ca/event/lunch-learn-%e2%80%a2-credit-101/
LOCATION:SANQC Multi-Purpose Space (1-096)\, 10215 108 St NW\, Edmonton\, Alberta\, T5J 1L6\, Canada
CATEGORIES:Mental Health Events
ATTACH;FMTTYPE=image/jpeg:/wp-content/uploads/2019/10/IMG_4009-e1572458291168.jpg
END:VEVENT
END:VCALENDAR